BEGIN:VCALENDAR
VERSION:2.0
PRODID:-//Paid Sick Leave for Nebraskans - ECPv6.15.17.1//NONSGML v1.0//EN
CALSCALE:GREGORIAN
METHOD:PUBLISH
X-ORIGINAL-URL:https://paidsickleavefornebraskans.org
X-WR-CALDESC:Events for Paid Sick Leave for Nebraskans
REFRESH-INTERVAL;VALUE=DURATION:PT1H
X-Robots-Tag:noindex
X-PUBLISHED-TTL:PT1H
BEGIN:VTIMEZONE
TZID:UTC
BEGIN:STANDARD
TZOFFSETFROM:+0000
TZOFFSETTO:+0000
TZNAME:UTC
DTSTART:20230101T000000
END:STANDARD
END:VTIMEZONE
BEGIN:VEVENT
DTSTART;TZID=UTC:20240404T150000
DTEND;TZID=UTC:20240404T180000
DTSTAMP:20260420T000804
CREATED:20240305T154935Z
LAST-MODIFIED:20240305T160523Z
UID:1504-1712242800-1712253600@paidsickleavefornebraskans.org
SUMMARY:The Mill in Lincoln
DESCRIPTION:
URL:https://paidsickleavefornebraskans.org/events/the-mill-on-leavenworth/
LOCATION:The Mill Coffee and Tea\, 800 P St\, Lincoln\, NE\, 68508\, United States
CATEGORIES:Petition Signing Event
END:VEVENT
BEGIN:VEVENT
DTSTART;TZID=UTC:20240401T150000
DTEND;TZID=UTC:20240401T180000
DTSTAMP:20260420T000804
CREATED:20240305T155008Z
LAST-MODIFIED:20240305T160546Z
UID:1508-1711983600-1711994400@paidsickleavefornebraskans.org
SUMMARY:The Mill in Lincoln
DESCRIPTION:
URL:https://paidsickleavefornebraskans.org/events/the-mill-on-leavenworth-2/
LOCATION:The Mill Coffee and Tea\, 800 P St\, Lincoln\, NE\, 68508\, United States
CATEGORIES:Petition Signing Event
END:VEVENT
BEGIN:VEVENT
DTSTART;TZID=UTC:20240401T150000
DTEND;TZID=UTC:20240401T170000
DTSTAMP:20260420T000804
CREATED:20240305T161735Z
LAST-MODIFIED:20240305T161735Z
UID:1603-1711983600-1711990800@paidsickleavefornebraskans.org
SUMMARY:Bad Seed Coffee
DESCRIPTION:
URL:https://paidsickleavefornebraskans.org/events/bad-seed-coffee-12/
LOCATION:Bad Seed Coffee\, 2452 Harney St.\, Omaha\, NE\, 68102\, United States
CATEGORIES:Petition Signing Event
END:VEVENT
BEGIN:VEVENT
DTSTART;TZID=UTC:20240330T160000
DTEND;TZID=UTC:20240330T180000
DTSTAMP:20260420T000804
CREATED:20240308T212446Z
LAST-MODIFIED:20240308T212604Z
UID:1767-1711814400-1711821600@paidsickleavefornebraskans.org
SUMMARY:Omaha Supernovas Volleyball at CHI Health Center Arena
DESCRIPTION:
URL:https://paidsickleavefornebraskans.org/events/pro-volleyball-at-chi-health-center-arena-4/
LOCATION:CHI Health Center Arena\, 455 N 10th St\, Omaha\, NE\, 68102\, United States
CATEGORIES:Petition Signing Event
END:VEVENT
BEGIN:VEVENT
DTSTART;TZID=UTC:20240329T180000
DTEND;TZID=UTC:20240329T210000
DTSTAMP:20260420T000804
CREATED:20240326T185232Z
LAST-MODIFIED:20240326T185232Z
UID:1865-1711735200-1711746000@paidsickleavefornebraskans.org
SUMMARY:Brothers Osborne Concert
DESCRIPTION:
URL:https://paidsickleavefornebraskans.org/events/brothers-osborne-concert/
LOCATION:Steelhouse Omaha\, 1100 Dodge St\, Omaha\, NE\, 68102\, United States
CATEGORIES:Petition Signing Event
END:VEVENT
BEGIN:VEVENT
DTSTART;TZID=UTC:20240329T070000
DTEND;TZID=UTC:20240329T090000
DTSTAMP:20260420T000804
CREATED:20240110T164509Z
LAST-MODIFIED:20240110T164509Z
UID:1243-1711695600-1711702800@paidsickleavefornebraskans.org
SUMMARY:Blue Line Coffee
DESCRIPTION:
URL:https://paidsickleavefornebraskans.org/events/blue-line-coffee-12/
LOCATION:Blue Line Coffee\, 4924 Underwood Ave\, Omaha\, NE\, 68132\, United States
CATEGORIES:Petition Signing Event
END:VEVENT
BEGIN:VEVENT
DTSTART;TZID=UTC:20240328T170000
DTEND;TZID=UTC:20240328T190000
DTSTAMP:20260420T000804
CREATED:20240308T212421Z
LAST-MODIFIED:20240308T212611Z
UID:1763-1711645200-1711652400@paidsickleavefornebraskans.org
SUMMARY:Omaha Supernovas Volleyball at CHI Health Center Arena
DESCRIPTION:
URL:https://paidsickleavefornebraskans.org/events/pro-volleyball-at-chi-health-center-arena-3/
LOCATION:CHI Health Center Arena\, 455 N 10th St\, Omaha\, NE\, 68102\, United States
CATEGORIES:Petition Signing Event
END:VEVENT
BEGIN:VEVENT
DTSTART;TZID=UTC:20240328T150000
DTEND;TZID=UTC:20240328T180000
DTSTAMP:20260420T000804
CREATED:20240110T165010Z
LAST-MODIFIED:20240305T160516Z
UID:1275-1711638000-1711648800@paidsickleavefornebraskans.org
SUMMARY:The Mill in Lincoln
DESCRIPTION:
URL:https://paidsickleavefornebraskans.org/events/the-mill-23/
LOCATION:The Mill Coffee and Tea\, 800 P St\, Lincoln\, NE\, 68508\, United States
CATEGORIES:Petition Signing Event
END:VEVENT
BEGIN:VEVENT
DTSTART;TZID=UTC:20240327T170000
DTEND;TZID=UTC:20240327T190000
DTSTAMP:20260420T000804
CREATED:20240326T185155Z
LAST-MODIFIED:20240326T185155Z
UID:1861-1711558800-1711566000@paidsickleavefornebraskans.org
SUMMARY:Trey Kennedy Comedy Tour
DESCRIPTION:
URL:https://paidsickleavefornebraskans.org/events/trey-kennedy-comedy-tour/
LOCATION:Steelhouse Omaha\, 1100 Dodge St\, Omaha\, NE\, 68102\, United States
CATEGORIES:Petition Signing Event
END:VEVENT
BEGIN:VEVENT
DTSTART;TZID=UTC:20240325T150000
DTEND;TZID=UTC:20240325T180000
DTSTAMP:20260420T000804
CREATED:20240110T164803Z
LAST-MODIFIED:20240305T160445Z
UID:1259-1711378800-1711389600@paidsickleavefornebraskans.org
SUMMARY:The Mill in Lincoln
DESCRIPTION:
URL:https://paidsickleavefornebraskans.org/events/the-mill-19/
LOCATION:The Mill Coffee and Tea\, 800 P St\, Lincoln\, NE\, 68508\, United States
CATEGORIES:Petition Signing Event
END:VEVENT
BEGIN:VEVENT
DTSTART;TZID=UTC:20240325T150000
DTEND;TZID=UTC:20240325T170000
DTSTAMP:20260420T000804
CREATED:20240110T162431Z
LAST-MODIFIED:20240110T162431Z
UID:1194-1711378800-1711386000@paidsickleavefornebraskans.org
SUMMARY:Bad Seed Coffee
DESCRIPTION:
URL:https://paidsickleavefornebraskans.org/events/bad-seed-coffee-11/
LOCATION:Bad Seed Coffee\, 2452 Harney St.\, Omaha\, NE\, 68102\, United States
CATEGORIES:Petition Signing Event
END:VEVENT
BEGIN:VEVENT
DTSTART;TZID=UTC:20240324T170000
DTEND;TZID=UTC:20240324T183000
DTSTAMP:20260420T000804
CREATED:20240228T203720Z
LAST-MODIFIED:20240228T203720Z
UID:1465-1711299600-1711305000@paidsickleavefornebraskans.org
SUMMARY:The Lion King
DESCRIPTION:
URL:https://paidsickleavefornebraskans.org/events/the-lion-king-17/
LOCATION:Orpheum Theater\, 409 S 16th St\, Omaha\, NE\, 69102\, United States
CATEGORIES:Petition Signing Event
END:VEVENT
BEGIN:VEVENT
DTSTART;TZID=UTC:20240324T113000
DTEND;TZID=UTC:20240324T130000
DTSTAMP:20260420T000804
CREATED:20240228T203651Z
LAST-MODIFIED:20240228T203651Z
UID:1461-1711279800-1711285200@paidsickleavefornebraskans.org
SUMMARY:The Lion King
DESCRIPTION:
URL:https://paidsickleavefornebraskans.org/events/the-lion-king-16/
LOCATION:Orpheum Theater\, 409 S 16th St\, Omaha\, NE\, 69102\, United States
CATEGORIES:Petition Signing Event
END:VEVENT
BEGIN:VEVENT
DTSTART;TZID=UTC:20240323T180000
DTEND;TZID=UTC:20240323T193000
DTSTAMP:20260420T000804
CREATED:20240228T204819Z
LAST-MODIFIED:20240228T204819Z
UID:1485-1711216800-1711222200@paidsickleavefornebraskans.org
SUMMARY:The Lion King
DESCRIPTION:
URL:https://paidsickleavefornebraskans.org/events/the-lion-king-22/
LOCATION:Orpheum Theater\, 409 S 16th St\, Omaha\, NE\, 69102\, United States
CATEGORIES:Petition Signing Event
END:VEVENT
BEGIN:VEVENT
DTSTART;TZID=UTC:20240322T180000
DTEND;TZID=UTC:20240322T193000
DTSTAMP:20260420T000804
CREATED:20240228T203611Z
LAST-MODIFIED:20240228T203611Z
UID:1457-1711130400-1711135800@paidsickleavefornebraskans.org
SUMMARY:The Lion King
DESCRIPTION:
URL:https://paidsickleavefornebraskans.org/events/the-lion-king-15/
LOCATION:Orpheum Theater\, 409 S 16th St\, Omaha\, NE\, 69102\, United States
CATEGORIES:Petition Signing Event
END:VEVENT
BEGIN:VEVENT
DTSTART;TZID=UTC:20240322T070000
DTEND;TZID=UTC:20240322T090000
DTSTAMP:20260420T000804
CREATED:20240110T164201Z
LAST-MODIFIED:20240110T164340Z
UID:1239-1711090800-1711098000@paidsickleavefornebraskans.org
SUMMARY:Blue Line Coffee
DESCRIPTION:
URL:https://paidsickleavefornebraskans.org/events/blue-line-coffee-11/
LOCATION:Blue Line Coffee\, 4924 Underwood Ave\, Omaha\, NE\, 68132\, United States
CATEGORIES:Petition Signing Event
END:VEVENT
BEGIN:VEVENT
DTSTART;TZID=UTC:20240321T180000
DTEND;TZID=UTC:20240321T193000
DTSTAMP:20260420T000804
CREATED:20240228T203547Z
LAST-MODIFIED:20240228T203547Z
UID:1453-1711044000-1711049400@paidsickleavefornebraskans.org
SUMMARY:The Lion King
DESCRIPTION:
URL:https://paidsickleavefornebraskans.org/events/the-lion-king-14/
LOCATION:Orpheum Theater\, 409 S 16th St\, Omaha\, NE\, 69102\, United States
CATEGORIES:Petition Signing Event
END:VEVENT
BEGIN:VEVENT
DTSTART;TZID=UTC:20240321T150000
DTEND;TZID=UTC:20240321T180000
DTSTAMP:20260420T000804
CREATED:20240110T164927Z
LAST-MODIFIED:20240305T160509Z
UID:1271-1711033200-1711044000@paidsickleavefornebraskans.org
SUMMARY:The Mill in Lincoln
DESCRIPTION:
URL:https://paidsickleavefornebraskans.org/events/the-mill-22/
LOCATION:The Mill Coffee and Tea\, 800 P St\, Lincoln\, NE\, 68508\, United States
CATEGORIES:Petition Signing Event
END:VEVENT
BEGIN:VEVENT
DTSTART;TZID=UTC:20240319T180000
DTEND;TZID=UTC:20240319T193000
DTSTAMP:20260420T000804
CREATED:20240228T203519Z
LAST-MODIFIED:20240228T203519Z
UID:1449-1710871200-1710876600@paidsickleavefornebraskans.org
SUMMARY:The Lion King
DESCRIPTION:
URL:https://paidsickleavefornebraskans.org/events/the-lion-king-13/
LOCATION:Orpheum Theater\, 409 S 16th St\, Omaha\, NE\, 69102\, United States
CATEGORIES:Petition Signing Event
END:VEVENT
BEGIN:VEVENT
DTSTART;TZID=UTC:20240318T150000
DTEND;TZID=UTC:20240318T180000
DTSTAMP:20260420T000804
CREATED:20240110T164729Z
LAST-MODIFIED:20240305T160435Z
UID:1255-1710774000-1710784800@paidsickleavefornebraskans.org
SUMMARY:The Mill in Lincoln
DESCRIPTION:
URL:https://paidsickleavefornebraskans.org/events/the-mill-18/
LOCATION:The Mill Coffee and Tea\, 800 P St\, Lincoln\, NE\, 68508\, United States
CATEGORIES:Petition Signing Event
END:VEVENT
BEGIN:VEVENT
DTSTART;TZID=UTC:20240318T150000
DTEND;TZID=UTC:20240318T170000
DTSTAMP:20260420T000804
CREATED:20240110T162407Z
LAST-MODIFIED:20240110T162407Z
UID:1190-1710774000-1710781200@paidsickleavefornebraskans.org
SUMMARY:Bad Seed Coffee
DESCRIPTION:
URL:https://paidsickleavefornebraskans.org/events/bad-seed-coffee-10/
LOCATION:Bad Seed Coffee\, 2452 Harney St.\, Omaha\, NE\, 68102\, United States
CATEGORIES:Petition Signing Event
END:VEVENT
BEGIN:VEVENT
DTSTART;TZID=UTC:20240317T170000
DTEND;TZID=UTC:20240317T183000
DTSTAMP:20260420T000804
CREATED:20240228T203442Z
LAST-MODIFIED:20240228T203442Z
UID:1445-1710694800-1710700200@paidsickleavefornebraskans.org
SUMMARY:The Lion King
DESCRIPTION:
URL:https://paidsickleavefornebraskans.org/events/the-lion-king-12/
LOCATION:Orpheum Theater\, 409 S 16th St\, Omaha\, NE\, 69102\, United States
CATEGORIES:Petition Signing Event
END:VEVENT
BEGIN:VEVENT
DTSTART;TZID=UTC:20240317T113000
DTEND;TZID=UTC:20240317T130000
DTSTAMP:20260420T000804
CREATED:20240228T203406Z
LAST-MODIFIED:20240228T203406Z
UID:1441-1710675000-1710680400@paidsickleavefornebraskans.org
SUMMARY:The Lion King
DESCRIPTION:
URL:https://paidsickleavefornebraskans.org/events/the-lion-king-11/
LOCATION:Orpheum Theater\, 409 S 16th St\, Omaha\, NE\, 69102\, United States
CATEGORIES:Petition Signing Event
END:VEVENT
BEGIN:VEVENT
DTSTART;TZID=UTC:20240316T180000
DTEND;TZID=UTC:20240316T193000
DTSTAMP:20260420T000804
CREATED:20240228T204252Z
LAST-MODIFIED:20240228T204252Z
UID:1473-1710612000-1710617400@paidsickleavefornebraskans.org
SUMMARY:The Lion King
DESCRIPTION:
URL:https://paidsickleavefornebraskans.org/events/the-lion-king-19/
LOCATION:Orpheum Theater\, 409 S 16th St\, Omaha\, NE\, 69102\, United States
CATEGORIES:Petition Signing Event
END:VEVENT
BEGIN:VEVENT
DTSTART;TZID=UTC:20240316T160000
DTEND;TZID=UTC:20240316T180000
DTSTAMP:20260420T000804
CREATED:20240308T212346Z
LAST-MODIFIED:20240308T212617Z
UID:1759-1710604800-1710612000@paidsickleavefornebraskans.org
SUMMARY:Omaha Supernovas Volleyball at CHI Health Center Arena
DESCRIPTION:
URL:https://paidsickleavefornebraskans.org/events/pro-volleyball-at-chi-health-center-arena-2/
LOCATION:CHI Health Center Arena\, 455 N 10th St\, Omaha\, NE\, 68102\, United States
CATEGORIES:Petition Signing Event
END:VEVENT
BEGIN:VEVENT
DTSTART;TZID=UTC:20240315T180000
DTEND;TZID=UTC:20240315T193000
DTSTAMP:20260420T000804
CREATED:20240228T204406Z
LAST-MODIFIED:20240228T204406Z
UID:1477-1710525600-1710531000@paidsickleavefornebraskans.org
SUMMARY:The Lion King
DESCRIPTION:
URL:https://paidsickleavefornebraskans.org/events/the-lion-king-20/
LOCATION:Orpheum Theater\, 409 S 16th St\, Omaha\, NE\, 69102\, United States
CATEGORIES:Petition Signing Event
END:VEVENT
BEGIN:VEVENT
DTSTART;TZID=UTC:20240315T070000
DTEND;TZID=UTC:20240315T090000
DTSTAMP:20260420T000804
CREATED:20240110T164126Z
LAST-MODIFIED:20240110T164424Z
UID:1235-1710486000-1710493200@paidsickleavefornebraskans.org
SUMMARY:Blue Line Coffee
DESCRIPTION:
URL:https://paidsickleavefornebraskans.org/events/blue-line-coffee-10/
LOCATION:Blue Line Coffee\, 4924 Underwood Ave\, Omaha\, NE\, 68132\, United States
CATEGORIES:Petition Signing Event
END:VEVENT
BEGIN:VEVENT
DTSTART;TZID=UTC:20240314T180000
DTEND;TZID=UTC:20240314T193000
DTSTAMP:20260420T000804
CREATED:20240228T204446Z
LAST-MODIFIED:20240228T204446Z
UID:1481-1710439200-1710444600@paidsickleavefornebraskans.org
SUMMARY:The Lion King
DESCRIPTION:
URL:https://paidsickleavefornebraskans.org/events/the-lion-king-21/
LOCATION:Orpheum Theater\, 409 S 16th St\, Omaha\, NE\, 69102\, United States
CATEGORIES:Petition Signing Event
END:VEVENT
BEGIN:VEVENT
DTSTART;TZID=UTC:20240314T170000
DTEND;TZID=UTC:20240314T190000
DTSTAMP:20260420T000804
CREATED:20240308T212322Z
LAST-MODIFIED:20240308T212623Z
UID:1755-1710435600-1710442800@paidsickleavefornebraskans.org
SUMMARY:Omaha Supernovas Volleyball at CHI Health Center Arena
DESCRIPTION:
URL:https://paidsickleavefornebraskans.org/events/pro-volleyball-at-chi-health-center-arena/
LOCATION:CHI Health Center Arena\, 455 N 10th St\, Omaha\, NE\, 68102\, United States
CATEGORIES:Petition Signing Event
END:VEVENT
BEGIN:VEVENT
DTSTART;TZID=UTC:20240314T160000
DTEND;TZID=UTC:20240314T200000
DTSTAMP:20260420T000804
CREATED:20240308T213510Z
LAST-MODIFIED:20240308T213510Z
UID:1804-1710432000-1710446400@paidsickleavefornebraskans.org
SUMMARY:Girl Scout Cookie Flights at Bierhaus Maisschäler
DESCRIPTION:
URL:https://paidsickleavefornebraskans.org/events/girl-scout-cookie-flights-at-bierhaus-maisschaler/
LOCATION:Bierhaus Maisschäler\, 151 N 8th St\, Lincoln\, NE\, 68501\, United States
CATEGORIES:Petition Signing Event
END:VEVENT
END:VCALENDAR