BEGIN:VCALENDAR
VERSION:2.0
PRODID:-//Paid Sick Leave for Nebraskans - ECPv6.15.17.1//NONSGML v1.0//EN
CALSCALE:GREGORIAN
METHOD:PUBLISH
X-ORIGINAL-URL:https://paidsickleavefornebraskans.org
X-WR-CALDESC:Events for Paid Sick Leave for Nebraskans
REFRESH-INTERVAL;VALUE=DURATION:PT1H
X-Robots-Tag:noindex
X-PUBLISHED-TTL:PT1H
BEGIN:VTIMEZONE
TZID:UTC
BEGIN:STANDARD
TZOFFSETFROM:+0000
TZOFFSETTO:+0000
TZNAME:UTC
DTSTART:20220101T000000
END:STANDARD
END:VTIMEZONE
BEGIN:VEVENT
DTSTART;TZID=UTC:20230809T170000
DTEND;TZID=UTC:20230809T200000
DTSTAMP:20260421T095604
CREATED:20230725T200722Z
LAST-MODIFIED:20230815T143805Z
UID:396-1691600400-1691611200@paidsickleavefornebraskans.org
SUMMARY:Papillion Farmer's Market
DESCRIPTION:
URL:https://paidsickleavefornebraskans.org/events/signature-gathering-at-papillion-farmers-market-2/
LOCATION:City Park\, Halleck Park Road\, Papillion\, NE\, 68046\, United States
CATEGORIES:Petition Signing Event
END:VEVENT
BEGIN:VEVENT
DTSTART;TZID=UTC:20230806T110000
DTEND;TZID=UTC:20230806T140000
DTSTAMP:20260421T095604
CREATED:20230725T201312Z
LAST-MODIFIED:20230815T143814Z
UID:433-1691319600-1691330400@paidsickleavefornebraskans.org
SUMMARY:Florence Mill Farmer's Market
DESCRIPTION:
URL:https://paidsickleavefornebraskans.org/events/signature-gathering-at-florence-mill-farmers-market-2/
LOCATION:Florence Mill\, 9102 N 30th Street\, Omaha\, NE\, 68112\, United States
CATEGORIES:Petition Signing Event
END:VEVENT
BEGIN:VEVENT
DTSTART;TZID=UTC:20230806T100000
DTEND;TZID=UTC:20230806T130000
DTSTAMP:20260421T095604
CREATED:20230725T201813Z
LAST-MODIFIED:20230815T143821Z
UID:455-1691316000-1691326800@paidsickleavefornebraskans.org
SUMMARY:College View Farmer's Market
DESCRIPTION:
URL:https://paidsickleavefornebraskans.org/events/signature-gathering-at-college-view-farmers-market-2/
LOCATION:Union College Parking Lot\, 3800 S 48th Street\, Lincolne\, NE\, 68506\, United States
CATEGORIES:Petition Signing Event
END:VEVENT
BEGIN:VEVENT
DTSTART;TZID=UTC:20230806T100000
DTEND;TZID=UTC:20230806T130000
DTSTAMP:20260421T095604
CREATED:20230724T162918Z
LAST-MODIFIED:20230921T151523Z
UID:322-1691316000-1691326800@paidsickleavefornebraskans.org
SUMMARY:Aksarben Farmer's Market
DESCRIPTION:
URL:https://paidsickleavefornebraskans.org/events/signature-gathering-at-aksarben-farmers-market-august-6/
LOCATION:Aksarben Village\, 2121 S 67th Street\, Omaha\, NE\, 68106\, United States
CATEGORIES:Petition Signing Event
END:VEVENT
BEGIN:VEVENT
DTSTART;TZID=UTC:20230806T090000
DTEND;TZID=UTC:20230806T190000
DTSTAMP:20260421T095604
CREATED:20230803T155445Z
LAST-MODIFIED:20230803T155445Z
UID:593-1691312400-1691348400@paidsickleavefornebraskans.org
SUMMARY:Wilber's Czech Festival
DESCRIPTION:Sign the paid sick leave petition at Wilber’s Czech festival.
URL:https://paidsickleavefornebraskans.org/events/wilbers-czech-festival-4/
LOCATION:Wilber\, NE\, Wilber\, NE\, 68465\, United States
CATEGORIES:Petition Signing Event
END:VEVENT
BEGIN:VEVENT
DTSTART;TZID=UTC:20230805T090000
DTEND;TZID=UTC:20230805T190000
DTSTAMP:20260421T095604
CREATED:20230803T155304Z
LAST-MODIFIED:20230803T155419Z
UID:589-1691226000-1691262000@paidsickleavefornebraskans.org
SUMMARY:Wilber's Czech Festival
DESCRIPTION:Sign the paid sick leave petition at Wilber’s Czech festival.
URL:https://paidsickleavefornebraskans.org/events/wilbers-czech-festival-3/
LOCATION:Wilber\, NE\, Wilber\, NE\, 68465\, United States
CATEGORIES:Petition Signing Event
END:VEVENT
BEGIN:VEVENT
DTSTART;TZID=UTC:20230805T090000
DTEND;TZID=UTC:20230805T170000
DTSTAMP:20260421T095604
CREATED:20230803T153845Z
LAST-MODIFIED:20230803T153845Z
UID:575-1691226000-1691254800@paidsickleavefornebraskans.org
SUMMARY:Signature Collection in Auburn
DESCRIPTION:
URL:https://paidsickleavefornebraskans.org/events/signature-collection-in-auburn/
LOCATION:Auburn\, NE\, Auburn\, NE\, 68305\, United States
CATEGORIES:Petition Signing Event
END:VEVENT
BEGIN:VEVENT
DTSTART;TZID=UTC:20230805T090000
DTEND;TZID=UTC:20230805T170000
DTSTAMP:20260421T095604
CREATED:20230728T175200Z
LAST-MODIFIED:20230728T175200Z
UID:554-1691226000-1691254800@paidsickleavefornebraskans.org
SUMMARY:Signature Collection in Tecumseh
DESCRIPTION:
URL:https://paidsickleavefornebraskans.org/events/signature-collection-in-tecumseh-2/
LOCATION:Tecumseh\, Tecumseh\, NE\, 68450\, United States
CATEGORIES:Petition Signing Event
END:VEVENT
BEGIN:VEVENT
DTSTART;TZID=UTC:20230805T090000
DTEND;TZID=UTC:20230805T120000
DTSTAMP:20260421T095604
CREATED:20230725T202739Z
LAST-MODIFIED:20230815T143847Z
UID:504-1691226000-1691236800@paidsickleavefornebraskans.org
SUMMARY:Lincoln Haymarket Farmer's Market
DESCRIPTION:
URL:https://paidsickleavefornebraskans.org/events/signature-collection-at-lincoln-haymarket-farmers-market-2/
LOCATION:Haymarket\, North 8th Street and P Street\, Lincoln\, NE\, 68508\, United States
CATEGORIES:Petition Signing Event
END:VEVENT
BEGIN:VEVENT
DTSTART;TZID=UTC:20230805T090000
DTEND;TZID=UTC:20230805T120000
DTSTAMP:20260421T095604
CREATED:20230725T194852Z
LAST-MODIFIED:20230815T143852Z
UID:335-1691226000-1691236800@paidsickleavefornebraskans.org
SUMMARY:Omaha Farmer’s Market
DESCRIPTION:
URL:https://paidsickleavefornebraskans.org/events/signature-gathering-at-omaha-farmers-market-2/
LOCATION:Old Market\, South 11th Street & Jackson Street\, Omaha\, NE\, United States
CATEGORIES:Petition Signing Event
END:VEVENT
BEGIN:VEVENT
DTSTART;TZID=UTC:20230804T130000
DTEND;TZID=UTC:20230804T160000
DTSTAMP:20260421T095604
CREATED:20230803T155155Z
LAST-MODIFIED:20230803T155155Z
UID:580-1691154000-1691164800@paidsickleavefornebraskans.org
SUMMARY:Wilber's Czech Festival
DESCRIPTION:Sign the paid sick leave petition at Wilber’s Czech festival.
URL:https://paidsickleavefornebraskans.org/events/wilbers-czech-festival/
LOCATION:Wilber\, NE\, Wilber\, NE\, 68465\, United States
CATEGORIES:Petition Signing Event
END:VEVENT
BEGIN:VEVENT
DTSTART;TZID=UTC:20230803T154500
DTEND;TZID=UTC:20230803T170000
DTSTAMP:20260421T095604
CREATED:20230728T175114Z
LAST-MODIFIED:20230728T175114Z
UID:549-1691077500-1691082000@paidsickleavefornebraskans.org
SUMMARY:Signature Collection in Tecumseh
DESCRIPTION:
URL:https://paidsickleavefornebraskans.org/events/signature-collection-in-tecumseh/
LOCATION:Tecumseh\, Tecumseh\, NE\, 68450\, United States
CATEGORIES:Petition Signing Event
END:VEVENT
BEGIN:VEVENT
DTSTART;TZID=UTC:20230802T170000
DTEND;TZID=UTC:20230802T200000
DTSTAMP:20260421T095604
CREATED:20230725T200654Z
LAST-MODIFIED:20230815T143903Z
UID:392-1690995600-1691006400@paidsickleavefornebraskans.org
SUMMARY:Papillion Farmer's Market
DESCRIPTION:
URL:https://paidsickleavefornebraskans.org/events/signature-gathering-at-papillion-farmers-market/
LOCATION:City Park\, Halleck Park Road\, Papillion\, NE\, 68046\, United States
CATEGORIES:Petition Signing Event
END:VEVENT
BEGIN:VEVENT
DTSTART;TZID=UTC:20230730T110000
DTEND;TZID=UTC:20230730T140000
DTSTAMP:20260421T095604
CREATED:20230725T201236Z
LAST-MODIFIED:20230815T143909Z
UID:428-1690714800-1690725600@paidsickleavefornebraskans.org
SUMMARY:Florence Mill Farmer's Market
DESCRIPTION:
URL:https://paidsickleavefornebraskans.org/events/signature-gathering-at-florence-mill-farmers-market/
LOCATION:Florence Mill\, 9102 N 30th Street\, Omaha\, NE\, 68112\, United States
CATEGORIES:Petition Signing Event
END:VEVENT
BEGIN:VEVENT
DTSTART;TZID=UTC:20230730T100000
DTEND;TZID=UTC:20230730T130000
DTSTAMP:20260421T095604
CREATED:20230725T201741Z
LAST-MODIFIED:20230815T143917Z
UID:450-1690711200-1690722000@paidsickleavefornebraskans.org
SUMMARY:College View Farmer's Market
DESCRIPTION:
URL:https://paidsickleavefornebraskans.org/events/signature-gathering-at-college-view-farmers-market/
LOCATION:Union College Parking Lot\, 3800 S 48th Street\, Lincolne\, NE\, 68506\, United States
CATEGORIES:Petition Signing Event
END:VEVENT
BEGIN:VEVENT
DTSTART;TZID=UTC:20230730T100000
DTEND;TZID=UTC:20230730T130000
DTSTAMP:20260421T095604
CREATED:20230724T162123Z
LAST-MODIFIED:20230921T151521Z
UID:317-1690711200-1690722000@paidsickleavefornebraskans.org
SUMMARY:Aksarben Farmer's Market
DESCRIPTION:
URL:https://paidsickleavefornebraskans.org/events/aksarben-farmers-market-july-30/
LOCATION:Aksarben Village\, 2121 S 67th Street\, Omaha\, NE\, 68106\, United States
CATEGORIES:Petition Signing Event
END:VEVENT
BEGIN:VEVENT
DTSTART;TZID=UTC:20230730T090000
DTEND;TZID=UTC:20230730T150000
DTSTAMP:20260421T095604
CREATED:20230728T175408Z
LAST-MODIFIED:20230815T143933Z
UID:563-1690707600-1690729200@paidsickleavefornebraskans.org
SUMMARY:Benson Days
DESCRIPTION:
URL:https://paidsickleavefornebraskans.org/events/benson-days-2/
LOCATION:Benson\, Omaha\, NE\, 68104\, United States
CATEGORIES:Petition Signing Event
END:VEVENT
BEGIN:VEVENT
DTSTART;TZID=UTC:20230729T090000
DTEND;TZID=UTC:20230729T120000
DTSTAMP:20260421T095604
CREATED:20230725T202706Z
LAST-MODIFIED:20230815T143941Z
UID:499-1690621200-1690632000@paidsickleavefornebraskans.org
SUMMARY:Lincoln Haymarket Farmer's Market
DESCRIPTION:
URL:https://paidsickleavefornebraskans.org/events/signature-collection-at-lincoln-haymarket-farmers-market/
LOCATION:Haymarket\, North 8th Street and P Street\, Lincoln\, NE\, 68508\, United States
CATEGORIES:Petition Signing Event
END:VEVENT
BEGIN:VEVENT
DTSTART;TZID=UTC:20230729T090000
DTEND;TZID=UTC:20230729T120000
DTSTAMP:20260421T095604
CREATED:20230725T183722Z
LAST-MODIFIED:20230815T143947Z
UID:330-1690621200-1690632000@paidsickleavefornebraskans.org
SUMMARY:Omaha Farmer’s Market
DESCRIPTION:
URL:https://paidsickleavefornebraskans.org/events/signature-gathering-at-omaha-farmers-market/
LOCATION:Old Market\, South 11th Street & Jackson Street\, Omaha\, NE\, United States
CATEGORIES:Petition Signing Event
END:VEVENT
BEGIN:VEVENT
DTSTART;TZID=UTC:20230729T080000
DTEND;TZID=UTC:20230729T160000
DTSTAMP:20260421T095604
CREATED:20230728T175340Z
LAST-MODIFIED:20230815T143954Z
UID:558-1690617600-1690646400@paidsickleavefornebraskans.org
SUMMARY:Benson Days
DESCRIPTION:
URL:https://paidsickleavefornebraskans.org/events/benson-days/
LOCATION:Benson\, Omaha\, NE\, 68104\, United States
CATEGORIES:Petition Signing Event
END:VEVENT
BEGIN:VEVENT
DTSTART;TZID=UTC:20230727T173000
DTEND;TZID=UTC:20230727T203000
DTSTAMP:20260421T095604
CREATED:20230726T135035Z
LAST-MODIFIED:20230726T135035Z
UID:538-1690479000-1690489800@paidsickleavefornebraskans.org
SUMMARY:Training + Signature Collection at Stransky Park Music
DESCRIPTION:Do a short training on how to collect signatures and the details of Paid Sick Leave\, then you have the option of putting it into practice at Stransky Park Music. Training will be at Meadowlark Coffee Shop from 5:30-6:15. Sign up here.
URL:https://paidsickleavefornebraskans.org/events/training-signature-collection-at-stransky-park-music/
LOCATION:Stransky Park\, 17th Street & Harrison Avenue\, Lincoln\, NE\, 68502\, United States
CATEGORIES:Information Session,Petition Signing Event
END:VEVENT
BEGIN:VEVENT
DTSTART;TZID=UTC:20230726T170000
DTEND;TZID=UTC:20230726T200000
DTSTAMP:20260421T095604
CREATED:20230725T200619Z
LAST-MODIFIED:20230815T144003Z
UID:387-1690390800-1690401600@paidsickleavefornebraskans.org
SUMMARY:Papillion Farmer's Market
DESCRIPTION:
URL:https://paidsickleavefornebraskans.org/events/signature-gathering-at-papillions-farmers-market/
LOCATION:City Park\, Halleck Park Road\, Papillion\, NE\, 68046\, United States
CATEGORIES:Petition Signing Event
END:VEVENT
END:VCALENDAR