BEGIN:VCALENDAR
VERSION:2.0
PRODID:-//Paid Sick Leave for Nebraskans - ECPv6.15.17.1//NONSGML v1.0//EN
CALSCALE:GREGORIAN
METHOD:PUBLISH
X-ORIGINAL-URL:https://paidsickleavefornebraskans.org
X-WR-CALDESC:Events for Paid Sick Leave for Nebraskans
REFRESH-INTERVAL;VALUE=DURATION:PT1H
X-Robots-Tag:noindex
X-PUBLISHED-TTL:PT1H
BEGIN:VTIMEZONE
TZID:UTC
BEGIN:STANDARD
TZOFFSETFROM:+0000
TZOFFSETTO:+0000
TZNAME:UTC
DTSTART:20220101T000000
END:STANDARD
END:VTIMEZONE
BEGIN:VEVENT
DTSTART;TZID=UTC:20230827T110000
DTEND;TZID=UTC:20230827T140000
DTSTAMP:20260421T053245
CREATED:20230725T201443Z
LAST-MODIFIED:20230815T143558Z
UID:445-1693134000-1693144800@paidsickleavefornebraskans.org
SUMMARY:Florence Mill Farmer's Market
DESCRIPTION:
URL:https://paidsickleavefornebraskans.org/events/signature-gathering-at-florence-mill-farmers-market-5/
LOCATION:Florence Mill\, 9102 N 30th Street\, Omaha\, NE\, 68112\, United States
CATEGORIES:Petition Signing Event
END:VEVENT
BEGIN:VEVENT
DTSTART;TZID=UTC:20230827T110000
DTEND;TZID=UTC:20230827T130000
DTSTAMP:20260421T053245
CREATED:20230725T201927Z
LAST-MODIFIED:20230815T143607Z
UID:463-1693134000-1693141200@paidsickleavefornebraskans.org
SUMMARY:College View Farmer's Market
DESCRIPTION:
URL:https://paidsickleavefornebraskans.org/events/signature-gathering-at-college-view-farmers-market-4/
LOCATION:Union College Parking Lot\, 3800 S 48th Street\, Lincolne\, NE\, 68506\, United States
CATEGORIES:Petition Signing Event
END:VEVENT
BEGIN:VEVENT
DTSTART;TZID=UTC:20230827T100000
DTEND;TZID=UTC:20230827T210000
DTSTAMP:20260421T053245
CREATED:20230824T144238Z
LAST-MODIFIED:20230824T144538Z
UID:844-1693130400-1693170000@paidsickleavefornebraskans.org
SUMMARY:Nebraska State Fair
DESCRIPTION:Signature collecting at the Nebraska Democratic booth in the Pinnacle Bank Expo Building.
URL:https://paidsickleavefornebraskans.org/events/nebraska-state-fair-3/
LOCATION:Pinnacle Bank Expo Center\, 700 E Stolley Park Rd\, Grand Island\, NE\, 68801\, United States
CATEGORIES:Petition Signing Event
END:VEVENT
BEGIN:VEVENT
DTSTART;TZID=UTC:20230827T100000
DTEND;TZID=UTC:20230827T130000
DTSTAMP:20260421T053245
CREATED:20230725T195906Z
LAST-MODIFIED:20230921T151538Z
UID:367-1693130400-1693141200@paidsickleavefornebraskans.org
SUMMARY:Aksarben Farmer's Market
DESCRIPTION:
URL:https://paidsickleavefornebraskans.org/events/signature-gathering-at-aksarben-farmers-market-3/
LOCATION:Aksarben Village\, 2121 S 67th Street\, Omaha\, NE\, 68106\, United States
CATEGORIES:Petition Signing Event
END:VEVENT
BEGIN:VEVENT
DTSTART;TZID=UTC:20230826T100000
DTEND;TZID=UTC:20230826T210000
DTSTAMP:20260421T053245
CREATED:20230824T144211Z
LAST-MODIFIED:20230824T144510Z
UID:840-1693044000-1693083600@paidsickleavefornebraskans.org
SUMMARY:Nebraska State Fair
DESCRIPTION:Signature collecting at the Nebraska Democratic booth in the Pinnacle Bank Expo Building.
URL:https://paidsickleavefornebraskans.org/events/nebraska-state-fair-2/
LOCATION:Pinnacle Bank Expo Center\, 700 E Stolley Park Rd\, Grand Island\, NE\, 68801\, United States
CATEGORIES:Petition Signing Event
END:VEVENT
BEGIN:VEVENT
DTSTART;TZID=UTC:20230826T090000
DTEND;TZID=UTC:20230826T120000
DTSTAMP:20260421T053245
CREATED:20230815T142737Z
LAST-MODIFIED:20230921T151929Z
UID:701-1693040400-1693051200@paidsickleavefornebraskans.org
SUMMARY:Bellevue Farmer's Market
DESCRIPTION:
URL:https://paidsickleavefornebraskans.org/events/signature-gathering-at-bellevue-farmers-market-2/
LOCATION:Bellevue\, 2001 Franklin Street\, Bellevue\, NE\, 68005\, United States
CATEGORIES:Petition Signing Event
END:VEVENT
BEGIN:VEVENT
DTSTART;TZID=UTC:20230826T090000
DTEND;TZID=UTC:20230826T120000
DTSTAMP:20260421T053245
CREATED:20230725T202848Z
LAST-MODIFIED:20230815T144648Z
UID:516-1693040400-1693051200@paidsickleavefornebraskans.org
SUMMARY:Lincoln Haymarket Farmer's Market
DESCRIPTION:
URL:https://paidsickleavefornebraskans.org/events/signature-collection-at-lincoln-haymarket-farmers-market-5/
LOCATION:Haymarket\, North 8th Street and P Street\, Lincoln\, NE\, 68508\, United States
CATEGORIES:Petition Signing Event
END:VEVENT
BEGIN:VEVENT
DTSTART;TZID=UTC:20230826T090000
DTEND;TZID=UTC:20230826T120000
DTSTAMP:20260421T053245
CREATED:20230725T194914Z
LAST-MODIFIED:20230815T143628Z
UID:339-1693040400-1693051200@paidsickleavefornebraskans.org
SUMMARY:Omaha Farmer’s Market
DESCRIPTION:
URL:https://paidsickleavefornebraskans.org/events/signature-gathering-at-omaha-farmers-market-3/
LOCATION:Old Market\, South 11th Street & Jackson Street\, Omaha\, NE\, United States
CATEGORIES:Petition Signing Event
END:VEVENT
BEGIN:VEVENT
DTSTART;TZID=UTC:20230825T180000
DTEND;TZID=UTC:20230825T200000
DTSTAMP:20260421T053245
CREATED:20230821T154507Z
LAST-MODIFIED:20230821T154507Z
UID:815-1692986400-1692993600@paidsickleavefornebraskans.org
SUMMARY:Hub and Soul
DESCRIPTION:
URL:https://paidsickleavefornebraskans.org/events/hub-and-soul/
LOCATION:The Hub Cafe\, 250 N 21st St 3\, Lincoln\, NE\, 68503\, United States
CATEGORIES:Petition Signing Event
END:VEVENT
BEGIN:VEVENT
DTSTART;TZID=UTC:20230825T100000
DTEND;TZID=UTC:20230825T210000
DTSTAMP:20260421T053245
CREATED:20230824T144102Z
LAST-MODIFIED:20230824T144126Z
UID:835-1692957600-1692997200@paidsickleavefornebraskans.org
SUMMARY:Nebraska State Fair
DESCRIPTION:Signature collecting at the Nebraska Democratic booth in the Pinnacle Bank Expo Building.
URL:https://paidsickleavefornebraskans.org/events/nebraska-state-fair/
LOCATION:Pinnacle Bank Expo Center\, 700 E Stolley Park Rd\, Grand Island\, NE\, 68801\, United States
CATEGORIES:Petition Signing Event
END:VEVENT
BEGIN:VEVENT
DTSTART;TZID=UTC:20230824T163000
DTEND;TZID=UTC:20230824T210000
DTSTAMP:20260421T053245
CREATED:20230821T154121Z
LAST-MODIFIED:20230821T154121Z
UID:809-1692894600-1692910800@paidsickleavefornebraskans.org
SUMMARY:Block Party + Farmer's Market
DESCRIPTION:
URL:https://paidsickleavefornebraskans.org/events/block-party-farmers-market/
LOCATION:West 2nd Street & North Saint Joseph Avenue\, Hastings\, NE\, 68901\, United States
CATEGORIES:Petition Signing Event
END:VEVENT
BEGIN:VEVENT
DTSTART;TZID=UTC:20230824T120000
DTEND;TZID=UTC:20230824T180000
DTSTAMP:20260421T053245
CREATED:20230821T155139Z
LAST-MODIFIED:20230821T155139Z
UID:821-1692878400-1692900000@paidsickleavefornebraskans.org
SUMMARY:Falls City Farmer's Market
DESCRIPTION:
URL:https://paidsickleavefornebraskans.org/events/falls-city-farmers-market/
LOCATION:Falls City\, Falls City\, NE\, 68355\, United States
CATEGORIES:Petition Signing Event
END:VEVENT
BEGIN:VEVENT
DTSTART;TZID=UTC:20230823T170000
DTEND;TZID=UTC:20230823T200000
DTSTAMP:20260421T053245
CREATED:20230725T200855Z
LAST-MODIFIED:20230815T143635Z
UID:408-1692810000-1692820800@paidsickleavefornebraskans.org
SUMMARY:Papillion Farmer's Market
DESCRIPTION:
URL:https://paidsickleavefornebraskans.org/events/signature-gathering-at-papillion-farmers-market-5/
LOCATION:City Park\, Halleck Park Road\, Papillion\, NE\, 68046\, United States
CATEGORIES:Petition Signing Event
END:VEVENT
BEGIN:VEVENT
DTSTART;TZID=UTC:20230820T110000
DTEND;TZID=UTC:20230820T140000
DTSTAMP:20260421T053245
CREATED:20230725T201416Z
LAST-MODIFIED:20230815T143642Z
UID:441-1692529200-1692540000@paidsickleavefornebraskans.org
SUMMARY:Florence Mill Farmer's Market
DESCRIPTION:
URL:https://paidsickleavefornebraskans.org/events/signature-gathering-at-florence-mill-farmers-market-4/
LOCATION:Florence Mill\, 9102 N 30th Street\, Omaha\, NE\, 68112\, United States
CATEGORIES:Petition Signing Event
END:VEVENT
BEGIN:VEVENT
DTSTART;TZID=UTC:20230820T100000
DTEND;TZID=UTC:20230820T130000
DTSTAMP:20260421T053245
CREATED:20230725T202202Z
LAST-MODIFIED:20230815T143648Z
UID:479-1692525600-1692536400@paidsickleavefornebraskans.org
SUMMARY:College View Farmer's Market
DESCRIPTION:
URL:https://paidsickleavefornebraskans.org/events/signature-gathering-at-college-view-farmers-market-8/
LOCATION:Union College Parking Lot\, 3800 S 48th Street\, Lincolne\, NE\, 68506\, United States
CATEGORIES:Petition Signing Event
END:VEVENT
BEGIN:VEVENT
DTSTART;TZID=UTC:20230820T100000
DTEND;TZID=UTC:20230820T130000
DTSTAMP:20260421T053245
CREATED:20230725T195840Z
LAST-MODIFIED:20230921T151532Z
UID:363-1692525600-1692536400@paidsickleavefornebraskans.org
SUMMARY:Aksarben Farmer's Market
DESCRIPTION:
URL:https://paidsickleavefornebraskans.org/events/signature-gathering-at-aksarben-farmers-market-2/
LOCATION:Aksarben Village\, 2121 S 67th Street\, Omaha\, NE\, 68106\, United States
CATEGORIES:Petition Signing Event
END:VEVENT
BEGIN:VEVENT
DTSTART;TZID=UTC:20230819T090000
DTEND;TZID=UTC:20230819T120000
DTSTAMP:20260421T053245
CREATED:20230815T142637Z
LAST-MODIFIED:20230921T151924Z
UID:696-1692435600-1692446400@paidsickleavefornebraskans.org
SUMMARY:Bellevue Farmer's Market
DESCRIPTION:
URL:https://paidsickleavefornebraskans.org/events/signature-gathering-at-bellevue-farmers-market/
LOCATION:Bellevue\, 2001 Franklin Street\, Bellevue\, NE\, 68005\, United States
CATEGORIES:Petition Signing Event
END:VEVENT
BEGIN:VEVENT
DTSTART;TZID=UTC:20230819T090000
DTEND;TZID=UTC:20230819T120000
DTSTAMP:20260421T053245
CREATED:20230725T202822Z
LAST-MODIFIED:20230815T143720Z
UID:512-1692435600-1692446400@paidsickleavefornebraskans.org
SUMMARY:Lincoln Haymarket Farmer's Market
DESCRIPTION:
URL:https://paidsickleavefornebraskans.org/events/signature-collection-at-lincoln-haymarket-farmers-market-4/
LOCATION:Haymarket\, North 8th Street and P Street\, Lincoln\, NE\, 68508\, United States
CATEGORIES:Petition Signing Event
END:VEVENT
BEGIN:VEVENT
DTSTART;TZID=UTC:20230818T153000
DTEND;TZID=UTC:20230818T203000
DTSTAMP:20260421T053245
CREATED:20230815T143122Z
LAST-MODIFIED:20230815T143122Z
UID:726-1692372600-1692390600@paidsickleavefornebraskans.org
SUMMARY:Johnson County Fair
DESCRIPTION:
URL:https://paidsickleavefornebraskans.org/events/johnson-county-fair/
LOCATION:Tecumseh\, NE\, Tecumseh\, NE\, 68450\, United States
CATEGORIES:Petition Signing Event
END:VEVENT
BEGIN:VEVENT
DTSTART;TZID=UTC:20230816T170000
DTEND;TZID=UTC:20230816T200000
DTSTAMP:20260421T053245
CREATED:20230725T200749Z
LAST-MODIFIED:20230815T143733Z
UID:400-1692205200-1692216000@paidsickleavefornebraskans.org
SUMMARY:Papillion Farmer's Market
DESCRIPTION:
URL:https://paidsickleavefornebraskans.org/events/signature-gathering-at-papillion-farmers-market-3/
LOCATION:City Park\, Halleck Park Road\, Papillion\, NE\, 68046\, United States
CATEGORIES:Petition Signing Event
END:VEVENT
BEGIN:VEVENT
DTSTART;TZID=UTC:20230813T110000
DTEND;TZID=UTC:20230813T140000
DTSTAMP:20260421T053245
CREATED:20230725T201343Z
LAST-MODIFIED:20230815T143738Z
UID:437-1691924400-1691935200@paidsickleavefornebraskans.org
SUMMARY:Florence Mill Farmer's Market
DESCRIPTION:
URL:https://paidsickleavefornebraskans.org/events/signature-gathering-at-florence-mill-farmers-market-3/
LOCATION:Florence Mill\, 9102 N 30th Street\, Omaha\, NE\, 68112\, United States
CATEGORIES:Petition Signing Event
END:VEVENT
BEGIN:VEVENT
DTSTART;TZID=UTC:20230813T100000
DTEND;TZID=UTC:20230813T130000
DTSTAMP:20260421T053245
CREATED:20230725T201859Z
LAST-MODIFIED:20230815T143746Z
UID:459-1691920800-1691931600@paidsickleavefornebraskans.org
SUMMARY:College View Farmer's Market
DESCRIPTION:
URL:https://paidsickleavefornebraskans.org/events/signature-gathering-at-college-view-farmers-market-3/
LOCATION:Union College Parking Lot\, 3800 S 48th Street\, Lincolne\, NE\, 68506\, United States
CATEGORIES:Petition Signing Event
END:VEVENT
BEGIN:VEVENT
DTSTART;TZID=UTC:20230813T100000
DTEND;TZID=UTC:20230813T130000
DTSTAMP:20260421T053245
CREATED:20230724T163100Z
LAST-MODIFIED:20230921T151527Z
UID:326-1691920800-1691931600@paidsickleavefornebraskans.org
SUMMARY:Aksarben Farmer's Market
DESCRIPTION:
URL:https://paidsickleavefornebraskans.org/events/signature-gathering-at-aksarben-farmers-market/
LOCATION:Aksarben Village\, 2121 S 67th Street\, Omaha\, NE\, 68106\, United States
CATEGORIES:Petition Signing Event
END:VEVENT
BEGIN:VEVENT
DTSTART;TZID=UTC:20230812T090000
DTEND;TZID=UTC:20230812T120000
DTSTAMP:20260421T053245
CREATED:20230725T202800Z
LAST-MODIFIED:20230815T143800Z
UID:508-1691830800-1691841600@paidsickleavefornebraskans.org
SUMMARY:Lincoln Haymarket Farmer's Market
DESCRIPTION:
URL:https://paidsickleavefornebraskans.org/events/signature-collection-at-lincoln-haymarket-farmers-market-3/
LOCATION:Haymarket\, North 8th Street and P Street\, Lincoln\, NE\, 68508\, United States
CATEGORIES:Petition Signing Event
END:VEVENT
BEGIN:VEVENT
DTSTART;TZID=UTC:20230809T170000
DTEND;TZID=UTC:20230809T200000
DTSTAMP:20260421T053245
CREATED:20230725T200722Z
LAST-MODIFIED:20230815T143805Z
UID:396-1691600400-1691611200@paidsickleavefornebraskans.org
SUMMARY:Papillion Farmer's Market
DESCRIPTION:
URL:https://paidsickleavefornebraskans.org/events/signature-gathering-at-papillion-farmers-market-2/
LOCATION:City Park\, Halleck Park Road\, Papillion\, NE\, 68046\, United States
CATEGORIES:Petition Signing Event
END:VEVENT
BEGIN:VEVENT
DTSTART;TZID=UTC:20230806T110000
DTEND;TZID=UTC:20230806T140000
DTSTAMP:20260421T053245
CREATED:20230725T201312Z
LAST-MODIFIED:20230815T143814Z
UID:433-1691319600-1691330400@paidsickleavefornebraskans.org
SUMMARY:Florence Mill Farmer's Market
DESCRIPTION:
URL:https://paidsickleavefornebraskans.org/events/signature-gathering-at-florence-mill-farmers-market-2/
LOCATION:Florence Mill\, 9102 N 30th Street\, Omaha\, NE\, 68112\, United States
CATEGORIES:Petition Signing Event
END:VEVENT
BEGIN:VEVENT
DTSTART;TZID=UTC:20230806T100000
DTEND;TZID=UTC:20230806T130000
DTSTAMP:20260421T053245
CREATED:20230725T201813Z
LAST-MODIFIED:20230815T143821Z
UID:455-1691316000-1691326800@paidsickleavefornebraskans.org
SUMMARY:College View Farmer's Market
DESCRIPTION:
URL:https://paidsickleavefornebraskans.org/events/signature-gathering-at-college-view-farmers-market-2/
LOCATION:Union College Parking Lot\, 3800 S 48th Street\, Lincolne\, NE\, 68506\, United States
CATEGORIES:Petition Signing Event
END:VEVENT
BEGIN:VEVENT
DTSTART;TZID=UTC:20230806T100000
DTEND;TZID=UTC:20230806T130000
DTSTAMP:20260421T053245
CREATED:20230724T162918Z
LAST-MODIFIED:20230921T151523Z
UID:322-1691316000-1691326800@paidsickleavefornebraskans.org
SUMMARY:Aksarben Farmer's Market
DESCRIPTION:
URL:https://paidsickleavefornebraskans.org/events/signature-gathering-at-aksarben-farmers-market-august-6/
LOCATION:Aksarben Village\, 2121 S 67th Street\, Omaha\, NE\, 68106\, United States
CATEGORIES:Petition Signing Event
END:VEVENT
BEGIN:VEVENT
DTSTART;TZID=UTC:20230806T090000
DTEND;TZID=UTC:20230806T190000
DTSTAMP:20260421T053245
CREATED:20230803T155445Z
LAST-MODIFIED:20230803T155445Z
UID:593-1691312400-1691348400@paidsickleavefornebraskans.org
SUMMARY:Wilber's Czech Festival
DESCRIPTION:Sign the paid sick leave petition at Wilber’s Czech festival.
URL:https://paidsickleavefornebraskans.org/events/wilbers-czech-festival-4/
LOCATION:Wilber\, NE\, Wilber\, NE\, 68465\, United States
CATEGORIES:Petition Signing Event
END:VEVENT
BEGIN:VEVENT
DTSTART;TZID=UTC:20230805T090000
DTEND;TZID=UTC:20230805T190000
DTSTAMP:20260421T053245
CREATED:20230803T155304Z
LAST-MODIFIED:20230803T155419Z
UID:589-1691226000-1691262000@paidsickleavefornebraskans.org
SUMMARY:Wilber's Czech Festival
DESCRIPTION:Sign the paid sick leave petition at Wilber’s Czech festival.
URL:https://paidsickleavefornebraskans.org/events/wilbers-czech-festival-3/
LOCATION:Wilber\, NE\, Wilber\, NE\, 68465\, United States
CATEGORIES:Petition Signing Event
END:VEVENT
END:VCALENDAR