BEGIN:VCALENDAR
VERSION:2.0
PRODID:-//Paid Sick Leave for Nebraskans - ECPv6.15.17.1//NONSGML v1.0//EN
CALSCALE:GREGORIAN
METHOD:PUBLISH
X-WR-CALNAME:Paid Sick Leave for Nebraskans
X-ORIGINAL-URL:https://paidsickleavefornebraskans.org
X-WR-CALDESC:Events for Paid Sick Leave for Nebraskans
REFRESH-INTERVAL;VALUE=DURATION:PT1H
X-Robots-Tag:noindex
X-PUBLISHED-TTL:PT1H
BEGIN:VTIMEZONE
TZID:UTC
BEGIN:STANDARD
TZOFFSETFROM:+0000
TZOFFSETTO:+0000
TZNAME:UTC
DTSTART:20220101T000000
END:STANDARD
END:VTIMEZONE
BEGIN:VEVENT
DTSTART;TZID=UTC:20230910T100000
DTEND;TZID=UTC:20230910T130000
DTSTAMP:20260421T013547
CREATED:20230725T202326Z
LAST-MODIFIED:20230815T143422Z
UID:487-1694340000-1694350800@paidsickleavefornebraskans.org
SUMMARY:College View Farmer's Market
DESCRIPTION:
URL:https://paidsickleavefornebraskans.org/events/signature-gathering-at-college-view-farmers-market-10/
LOCATION:Union College Parking Lot\, 3800 S 48th Street\, Lincolne\, NE\, 68506\, United States
CATEGORIES:Petition Signing Event
END:VEVENT
BEGIN:VEVENT
DTSTART;TZID=UTC:20230910T100000
DTEND;TZID=UTC:20230910T130000
DTSTAMP:20260421T013547
CREATED:20230725T202019Z
LAST-MODIFIED:20230815T143431Z
UID:471-1694340000-1694350800@paidsickleavefornebraskans.org
SUMMARY:College View Farmer's Market
DESCRIPTION:
URL:https://paidsickleavefornebraskans.org/events/signature-gathering-at-college-view-farmers-market-6/
LOCATION:Union College Parking Lot\, 3800 S 48th Street\, Lincolne\, NE\, 68506\, United States
CATEGORIES:Petition Signing Event
END:VEVENT
BEGIN:VEVENT
DTSTART;TZID=UTC:20230910T100000
DTEND;TZID=UTC:20230910T130000
DTSTAMP:20260421T013547
CREATED:20230725T200050Z
LAST-MODIFIED:20230921T151549Z
UID:375-1694340000-1694350800@paidsickleavefornebraskans.org
SUMMARY:Aksarben Farmer's Market
DESCRIPTION:
URL:https://paidsickleavefornebraskans.org/events/signature-gathering-at-aksarben-farmers-market-5/
LOCATION:Aksarben Village\, 2121 S 67th Street\, Omaha\, NE\, 68106\, United States
CATEGORIES:Petition Signing Event
END:VEVENT
BEGIN:VEVENT
DTSTART;TZID=UTC:20230909T090000
DTEND;TZID=UTC:20230909T120000
DTSTAMP:20260421T013547
CREATED:20230815T142828Z
LAST-MODIFIED:20230921T151938Z
UID:710-1694250000-1694260800@paidsickleavefornebraskans.org
SUMMARY:Bellevue Farmer's Market
DESCRIPTION:
URL:https://paidsickleavefornebraskans.org/events/signature-gathering-at-bellevue-farmers-market-4/
LOCATION:NE
CATEGORIES:Petition Signing Event
END:VEVENT
BEGIN:VEVENT
DTSTART;TZID=UTC:20230909T090000
DTEND;TZID=UTC:20230909T120000
DTSTAMP:20260421T013547
CREATED:20230725T202936Z
LAST-MODIFIED:20230815T143445Z
UID:524-1694250000-1694260800@paidsickleavefornebraskans.org
SUMMARY:Lincoln Haymarket Farmer's Market
DESCRIPTION:
URL:https://paidsickleavefornebraskans.org/events/signature-collection-at-lincoln-haymarket-farmers-market-7/
LOCATION:Haymarket\, North 8th Street and P Street\, Lincoln\, NE\, 68508\, United States
CATEGORIES:Petition Signing Event
END:VEVENT
BEGIN:VEVENT
DTSTART;TZID=UTC:20230909T090000
DTEND;TZID=UTC:20230909T120000
DTSTAMP:20260421T013547
CREATED:20230725T195605Z
LAST-MODIFIED:20230815T143455Z
UID:351-1694250000-1694260800@paidsickleavefornebraskans.org
SUMMARY:Omaha Farmer’s Market
DESCRIPTION:
URL:https://paidsickleavefornebraskans.org/events/signature-gathering-at-omaha-farmers-market-6/
LOCATION:Old Market\, South 11th Street & Jackson Street\, Omaha\, NE\, United States
CATEGORIES:Petition Signing Event
END:VEVENT
BEGIN:VEVENT
DTSTART;TZID=UTC:20230906T170000
DTEND;TZID=UTC:20230906T200000
DTSTAMP:20260421T013547
CREATED:20230725T200918Z
LAST-MODIFIED:20230815T143501Z
UID:412-1694019600-1694030400@paidsickleavefornebraskans.org
SUMMARY:Papillion Farmer's Market
DESCRIPTION:
URL:https://paidsickleavefornebraskans.org/events/signature-gathering-at-papillion-farmers-market-6/
LOCATION:City Park\, Halleck Park Road\, Papillion\, NE\, 68046\, United States
CATEGORIES:Petition Signing Event
END:VEVENT
BEGIN:VEVENT
DTSTART;TZID=UTC:20230906T170000
DTEND;TZID=UTC:20230906T180000
DTSTAMP:20260421T013547
CREATED:20230907T141400Z
LAST-MODIFIED:20230907T141400Z
UID:902-1694019600-1694023200@paidsickleavefornebraskans.org
SUMMARY:Central Nebraska Peace Workers
DESCRIPTION:
URL:https://paidsickleavefornebraskans.org/events/central-nebraska-peace-workers/
LOCATION:1811 W 2nd Street\, Grand Island\, NE\, 68803\, United States
CATEGORIES:Petition Signing Event
END:VEVENT
BEGIN:VEVENT
DTSTART;TZID=UTC:20230904T100000
DTEND;TZID=UTC:20230904T210000
DTSTAMP:20260421T013547
CREATED:20230824T144940Z
LAST-MODIFIED:20230824T144940Z
UID:880-1693821600-1693861200@paidsickleavefornebraskans.org
SUMMARY:Nebraska State Fair
DESCRIPTION:Signature collecting at the Nebraska Democratic booth in the Pinnacle Bank Expo Building.
URL:https://paidsickleavefornebraskans.org/events/nebraska-state-fair-11/
LOCATION:Pinnacle Bank Expo Center\, 700 E Stolley Park Rd\, Grand Island\, NE\, 68801\, United States
CATEGORIES:Petition Signing Event
END:VEVENT
BEGIN:VEVENT
DTSTART;TZID=UTC:20230904T080000
DTEND;TZID=UTC:20230904T140000
DTSTAMP:20260421T013547
CREATED:20230830T172553Z
LAST-MODIFIED:20230830T172553Z
UID:896-1693814400-1693836000@paidsickleavefornebraskans.org
SUMMARY:Septemberfest
DESCRIPTION:
URL:https://paidsickleavefornebraskans.org/events/septemberfest/
LOCATION:CHI Health Center Arena\, 455 N 10th St\, Omaha\, NE\, 68102\, United States
CATEGORIES:Petition Signing Event
END:VEVENT
BEGIN:VEVENT
DTSTART;TZID=UTC:20230903T100000
DTEND;TZID=UTC:20230903T210000
DTSTAMP:20260421T013547
CREATED:20230824T144910Z
LAST-MODIFIED:20230824T144910Z
UID:876-1693735200-1693774800@paidsickleavefornebraskans.org
SUMMARY:Nebraska State Fair
DESCRIPTION:Signature collecting at the Nebraska Democratic booth in the Pinnacle Bank Expo Building.
URL:https://paidsickleavefornebraskans.org/events/nebraska-state-fair-10/
LOCATION:Pinnacle Bank Expo Center\, 700 E Stolley Park Rd\, Grand Island\, NE\, 68801\, United States
CATEGORIES:Petition Signing Event
END:VEVENT
BEGIN:VEVENT
DTSTART;TZID=UTC:20230903T100000
DTEND;TZID=UTC:20230903T130000
DTSTAMP:20260421T013547
CREATED:20230725T202242Z
LAST-MODIFIED:20230815T143509Z
UID:483-1693735200-1693746000@paidsickleavefornebraskans.org
SUMMARY:College View Farmer's Market
DESCRIPTION:
URL:https://paidsickleavefornebraskans.org/events/signature-gathering-at-college-view-farmers-market-9/
LOCATION:Union College Parking Lot\, 3800 S 48th Street\, Lincolne\, NE\, 68506\, United States
CATEGORIES:Petition Signing Event
END:VEVENT
BEGIN:VEVENT
DTSTART;TZID=UTC:20230903T100000
DTEND;TZID=UTC:20230903T130000
DTSTAMP:20260421T013547
CREATED:20230725T201954Z
LAST-MODIFIED:20230815T143517Z
UID:467-1693735200-1693746000@paidsickleavefornebraskans.org
SUMMARY:College View Farmer's Market
DESCRIPTION:
URL:https://paidsickleavefornebraskans.org/events/signature-gathering-at-college-view-farmers-market-5/
LOCATION:Union College Parking Lot\, 3800 S 48th Street\, Lincolne\, NE\, 68506\, United States
CATEGORIES:Petition Signing Event
END:VEVENT
BEGIN:VEVENT
DTSTART;TZID=UTC:20230903T100000
DTEND;TZID=UTC:20230903T130000
DTSTAMP:20260421T013547
CREATED:20230725T195957Z
LAST-MODIFIED:20230921T151543Z
UID:371-1693735200-1693746000@paidsickleavefornebraskans.org
SUMMARY:Aksarben Farmer's Market
DESCRIPTION:
URL:https://paidsickleavefornebraskans.org/events/signature-gathering-at-aksarben-farmers-market-4/
LOCATION:Aksarben Village\, 2121 S 67th Street\, Omaha\, NE\, 68106\, United States
CATEGORIES:Petition Signing Event
END:VEVENT
BEGIN:VEVENT
DTSTART;TZID=UTC:20230902T090000
DTEND;TZID=UTC:20230902T220000
DTSTAMP:20260421T013547
CREATED:20230824T144836Z
LAST-MODIFIED:20230824T144836Z
UID:872-1693645200-1693692000@paidsickleavefornebraskans.org
SUMMARY:Nebraska State Fair
DESCRIPTION:Signature collecting at the Nebraska Democratic booth in the Pinnacle Bank Expo Building.
URL:https://paidsickleavefornebraskans.org/events/nebraska-state-fair-9/
LOCATION:Pinnacle Bank Expo Center\, 700 E Stolley Park Rd\, Grand Island\, NE\, 68801\, United States
CATEGORIES:Petition Signing Event
END:VEVENT
BEGIN:VEVENT
DTSTART;TZID=UTC:20230902T090000
DTEND;TZID=UTC:20230902T120000
DTSTAMP:20260421T013547
CREATED:20230815T142805Z
LAST-MODIFIED:20230921T151933Z
UID:706-1693645200-1693656000@paidsickleavefornebraskans.org
SUMMARY:Bellevue Farmer's Market
DESCRIPTION:
URL:https://paidsickleavefornebraskans.org/events/signature-gathering-at-bellevue-farmers-market-3/
LOCATION:Bellevue\, 2001 Franklin Street\, Bellevue\, NE\, 68005\, United States
CATEGORIES:Petition Signing Event
END:VEVENT
BEGIN:VEVENT
DTSTART;TZID=UTC:20230902T090000
DTEND;TZID=UTC:20230902T120000
DTSTAMP:20260421T013547
CREATED:20230725T202911Z
LAST-MODIFIED:20230815T143537Z
UID:520-1693645200-1693656000@paidsickleavefornebraskans.org
SUMMARY:Lincoln Haymarket Farmer's Market
DESCRIPTION:
URL:https://paidsickleavefornebraskans.org/events/signature-collection-at-lincoln-haymarket-farmers-market-6/
LOCATION:Haymarket\, North 8th Street and P Street\, Lincoln\, NE\, 68508\, United States
CATEGORIES:Petition Signing Event
END:VEVENT
BEGIN:VEVENT
DTSTART;TZID=UTC:20230902T090000
DTEND;TZID=UTC:20230902T120000
DTSTAMP:20260421T013547
CREATED:20230725T195532Z
LAST-MODIFIED:20230815T143529Z
UID:347-1693645200-1693656000@paidsickleavefornebraskans.org
SUMMARY:Omaha Farmer’s Market
DESCRIPTION:
URL:https://paidsickleavefornebraskans.org/events/signature-gathering-at-omaha-farmers-market-5/
LOCATION:Old Market\, South 11th Street & Jackson Street\, Omaha\, NE\, United States
CATEGORIES:Petition Signing Event
END:VEVENT
BEGIN:VEVENT
DTSTART;TZID=UTC:20230901T100000
DTEND;TZID=UTC:20230901T210000
DTSTAMP:20260421T013547
CREATED:20230824T144805Z
LAST-MODIFIED:20230824T144805Z
UID:868-1693562400-1693602000@paidsickleavefornebraskans.org
SUMMARY:Nebraska State Fair
DESCRIPTION:Signature collecting at the Nebraska Democratic booth in the Pinnacle Bank Expo Building.
URL:https://paidsickleavefornebraskans.org/events/nebraska-state-fair-8/
LOCATION:Pinnacle Bank Expo Center\, 700 E Stolley Park Rd\, Grand Island\, NE\, 68801\, United States
CATEGORIES:Petition Signing Event
END:VEVENT
BEGIN:VEVENT
DTSTART;TZID=UTC:20230831T100000
DTEND;TZID=UTC:20230831T210000
DTSTAMP:20260421T013547
CREATED:20230824T144737Z
LAST-MODIFIED:20230824T144737Z
UID:864-1693476000-1693515600@paidsickleavefornebraskans.org
SUMMARY:Nebraska State Fair
DESCRIPTION:Signature collecting at the Nebraska Democratic booth in the Pinnacle Bank Expo Building.
URL:https://paidsickleavefornebraskans.org/events/nebraska-state-fair-7/
LOCATION:Pinnacle Bank Expo Center\, 700 E Stolley Park Rd\, Grand Island\, NE\, 68801\, United States
CATEGORIES:Petition Signing Event
END:VEVENT
BEGIN:VEVENT
DTSTART;TZID=UTC:20230830T170000
DTEND;TZID=UTC:20230830T200000
DTSTAMP:20260421T013547
CREATED:20230725T200822Z
LAST-MODIFIED:20230815T143551Z
UID:404-1693414800-1693425600@paidsickleavefornebraskans.org
SUMMARY:Papillion Farmer's Market
DESCRIPTION:
URL:https://paidsickleavefornebraskans.org/events/signature-gathering-at-papillion-farmers-market-4/
LOCATION:City Park\, Halleck Park Road\, Papillion\, NE\, 68046\, United States
CATEGORIES:Petition Signing Event
END:VEVENT
BEGIN:VEVENT
DTSTART;TZID=UTC:20230830T160000
DTEND;TZID=UTC:20230830T180000
DTSTAMP:20260421T013547
CREATED:20230830T172318Z
LAST-MODIFIED:20230830T172318Z
UID:891-1693411200-1693418400@paidsickleavefornebraskans.org
SUMMARY:UNL Volleyball Showcase
DESCRIPTION:
URL:https://paidsickleavefornebraskans.org/events/unl-volleyball-showcase/
LOCATION:Lincoln\, NE\, Lincoln\, NE\, 68588\, United States
CATEGORIES:Petition Signing Event
END:VEVENT
BEGIN:VEVENT
DTSTART;TZID=UTC:20230830T100000
DTEND;TZID=UTC:20230830T210000
DTSTAMP:20260421T013547
CREATED:20230824T144705Z
LAST-MODIFIED:20230824T144705Z
UID:860-1693389600-1693429200@paidsickleavefornebraskans.org
SUMMARY:Nebraska State Fair
DESCRIPTION:Signature collecting at the Nebraska Democratic booth in the Pinnacle Bank Expo Building.
URL:https://paidsickleavefornebraskans.org/events/nebraska-state-fair-6/
LOCATION:Pinnacle Bank Expo Center\, 700 E Stolley Park Rd\, Grand Island\, NE\, 68801\, United States
CATEGORIES:Petition Signing Event
END:VEVENT
BEGIN:VEVENT
DTSTART;TZID=UTC:20230829T100000
DTEND;TZID=UTC:20230829T210000
DTSTAMP:20260421T013547
CREATED:20230824T144346Z
LAST-MODIFIED:20230824T144622Z
UID:852-1693303200-1693342800@paidsickleavefornebraskans.org
SUMMARY:Nebraska State Fair
DESCRIPTION:Signature collecting at the Nebraska Democratic booth in the Pinnacle Bank Expo Building.
URL:https://paidsickleavefornebraskans.org/events/nebraska-state-fair-5/
LOCATION:Pinnacle Bank Expo Center\, 700 E Stolley Park Rd\, Grand Island\, NE\, 68801\, United States
CATEGORIES:Petition Signing Event
END:VEVENT
BEGIN:VEVENT
DTSTART;TZID=UTC:20230827T110000
DTEND;TZID=UTC:20230827T140000
DTSTAMP:20260421T013547
CREATED:20230725T201443Z
LAST-MODIFIED:20230815T143558Z
UID:445-1693134000-1693144800@paidsickleavefornebraskans.org
SUMMARY:Florence Mill Farmer's Market
DESCRIPTION:
URL:https://paidsickleavefornebraskans.org/events/signature-gathering-at-florence-mill-farmers-market-5/
LOCATION:Florence Mill\, 9102 N 30th Street\, Omaha\, NE\, 68112\, United States
CATEGORIES:Petition Signing Event
END:VEVENT
BEGIN:VEVENT
DTSTART;TZID=UTC:20230827T110000
DTEND;TZID=UTC:20230827T130000
DTSTAMP:20260421T013547
CREATED:20230725T201927Z
LAST-MODIFIED:20230815T143607Z
UID:463-1693134000-1693141200@paidsickleavefornebraskans.org
SUMMARY:College View Farmer's Market
DESCRIPTION:
URL:https://paidsickleavefornebraskans.org/events/signature-gathering-at-college-view-farmers-market-4/
LOCATION:Union College Parking Lot\, 3800 S 48th Street\, Lincolne\, NE\, 68506\, United States
CATEGORIES:Petition Signing Event
END:VEVENT
BEGIN:VEVENT
DTSTART;TZID=UTC:20230827T100000
DTEND;TZID=UTC:20230827T210000
DTSTAMP:20260421T013547
CREATED:20230824T144238Z
LAST-MODIFIED:20230824T144538Z
UID:844-1693130400-1693170000@paidsickleavefornebraskans.org
SUMMARY:Nebraska State Fair
DESCRIPTION:Signature collecting at the Nebraska Democratic booth in the Pinnacle Bank Expo Building.
URL:https://paidsickleavefornebraskans.org/events/nebraska-state-fair-3/
LOCATION:Pinnacle Bank Expo Center\, 700 E Stolley Park Rd\, Grand Island\, NE\, 68801\, United States
CATEGORIES:Petition Signing Event
END:VEVENT
BEGIN:VEVENT
DTSTART;TZID=UTC:20230827T100000
DTEND;TZID=UTC:20230827T130000
DTSTAMP:20260421T013547
CREATED:20230725T195906Z
LAST-MODIFIED:20230921T151538Z
UID:367-1693130400-1693141200@paidsickleavefornebraskans.org
SUMMARY:Aksarben Farmer's Market
DESCRIPTION:
URL:https://paidsickleavefornebraskans.org/events/signature-gathering-at-aksarben-farmers-market-3/
LOCATION:Aksarben Village\, 2121 S 67th Street\, Omaha\, NE\, 68106\, United States
CATEGORIES:Petition Signing Event
END:VEVENT
BEGIN:VEVENT
DTSTART;TZID=UTC:20230826T100000
DTEND;TZID=UTC:20230826T210000
DTSTAMP:20260421T013547
CREATED:20230824T144211Z
LAST-MODIFIED:20230824T144510Z
UID:840-1693044000-1693083600@paidsickleavefornebraskans.org
SUMMARY:Nebraska State Fair
DESCRIPTION:Signature collecting at the Nebraska Democratic booth in the Pinnacle Bank Expo Building.
URL:https://paidsickleavefornebraskans.org/events/nebraska-state-fair-2/
LOCATION:Pinnacle Bank Expo Center\, 700 E Stolley Park Rd\, Grand Island\, NE\, 68801\, United States
CATEGORIES:Petition Signing Event
END:VEVENT
BEGIN:VEVENT
DTSTART;TZID=UTC:20230826T090000
DTEND;TZID=UTC:20230826T120000
DTSTAMP:20260421T013547
CREATED:20230815T142737Z
LAST-MODIFIED:20230921T151929Z
UID:701-1693040400-1693051200@paidsickleavefornebraskans.org
SUMMARY:Bellevue Farmer's Market
DESCRIPTION:
URL:https://paidsickleavefornebraskans.org/events/signature-gathering-at-bellevue-farmers-market-2/
LOCATION:Bellevue\, 2001 Franklin Street\, Bellevue\, NE\, 68005\, United States
CATEGORIES:Petition Signing Event
END:VEVENT
END:VCALENDAR