BEGIN:VCALENDAR
VERSION:2.0
PRODID:-//Paid Sick Leave for Nebraskans - ECPv6.15.17.1//NONSGML v1.0//EN
CALSCALE:GREGORIAN
METHOD:PUBLISH
X-ORIGINAL-URL:https://paidsickleavefornebraskans.org
X-WR-CALDESC:Events for Paid Sick Leave for Nebraskans
REFRESH-INTERVAL;VALUE=DURATION:PT1H
X-Robots-Tag:noindex
X-PUBLISHED-TTL:PT1H
BEGIN:VTIMEZONE
TZID:UTC
BEGIN:STANDARD
TZOFFSETFROM:+0000
TZOFFSETTO:+0000
TZNAME:UTC
DTSTART:20220101T000000
END:STANDARD
END:VTIMEZONE
BEGIN:VEVENT
DTSTART;TZID=UTC:20231121T120000
DTEND;TZID=UTC:20231121T140000
DTSTAMP:20260420T194022
CREATED:20231005T154637Z
LAST-MODIFIED:20231005T154637Z
UID:1021-1700568000-1700575200@paidsickleavefornebraskans.org
SUMMARY:PSL Happy Hour + Signature Gathering
DESCRIPTION:Join us for our PSL Happy Hour!\nTuesday’s at Urban Abbey this fall from noon to 2 pm\, we will be offering Pumpkin Spice Lattes for Buy One Get One Free!\nThis will also be an opportunity to learn more about the Paid Sick Leave for Nebraskans campaign! Two wonderful kinds of P.S.L.
URL:https://paidsickleavefornebraskans.org/events/psl-happy-hour-signature-gathering-6/
LOCATION:Urban Abbey\, 1026 Jackson Street\, Omaha\, Nebraska\, 68102\, United States
CATEGORIES:Petition Signing Event
END:VEVENT
BEGIN:VEVENT
DTSTART;TZID=UTC:20231119T100000
DTEND;TZID=UTC:20231119T130000
DTSTAMP:20260420T194022
CREATED:20231112T231554Z
LAST-MODIFIED:20231112T231554Z
UID:1027-1700388000-1700398800@paidsickleavefornebraskans.org
SUMMARY:College View Holiday Harvest Market
DESCRIPTION:South 48th Street & Prescott Avenue
URL:https://paidsickleavefornebraskans.org/events/college-view-holiday-harvest-market/
LOCATION:Lincoln\, NE\, Lincoln\, NE\, 68588\, United States
CATEGORIES:Petition Signing Event
END:VEVENT
BEGIN:VEVENT
DTSTART;TZID=UTC:20231118T120000
DTEND;TZID=UTC:20231118T190000
DTSTAMP:20260420T194022
CREATED:20231112T231742Z
LAST-MODIFIED:20231112T231742Z
UID:1031-1700308800-1700334000@paidsickleavefornebraskans.org
SUMMARY:Richardson County Canvass
DESCRIPTION:Please join us in some good old fashioned door knocking! Transportation and dinner will be provided. Details and logistics to follow after sign up.
URL:https://paidsickleavefornebraskans.org/events/richardson-county-canvass/
LOCATION:Falls City\, NE 68355
CATEGORIES:Petition Signing Event
END:VEVENT
BEGIN:VEVENT
DTSTART;TZID=UTC:20231114T120000
DTEND;TZID=UTC:20231114T140000
DTSTAMP:20260420T194022
CREATED:20231005T154542Z
LAST-MODIFIED:20231005T154542Z
UID:1017-1699963200-1699970400@paidsickleavefornebraskans.org
SUMMARY:PSL Happy Hour + Signature Gathering
DESCRIPTION:Join us for our PSL Happy Hour!\nTuesday’s at Urban Abbey this fall from noon to 2 pm\, we will be offering Pumpkin Spice Lattes for Buy One Get One Free!\nThis will also be an opportunity to learn more about the Paid Sick Leave for Nebraskans campaign! Two wonderful kinds of P.S.L.
URL:https://paidsickleavefornebraskans.org/events/psl-happy-hour-signature-gathering-5/
LOCATION:Urban Abbey\, 1026 Jackson Street\, Omaha\, Nebraska\, 68102\, United States
CATEGORIES:Petition Signing Event
END:VEVENT
BEGIN:VEVENT
DTSTART;TZID=UTC:20231107T120000
DTEND;TZID=UTC:20231107T140000
DTSTAMP:20260420T194022
CREATED:20231005T154453Z
LAST-MODIFIED:20231005T154453Z
UID:1013-1699358400-1699365600@paidsickleavefornebraskans.org
SUMMARY:PSL Happy Hour + Signature Gathering
DESCRIPTION:Join us for our PSL Happy Hour!\nTuesday’s at Urban Abbey this fall from noon to 2 pm\, we will be offering Pumpkin Spice Lattes for Buy One Get One Free!\nThis will also be an opportunity to learn more about the Paid Sick Leave for Nebraskans campaign! Two wonderful kinds of P.S.L.
URL:https://paidsickleavefornebraskans.org/events/psl-happy-hour-signature-gathering-4/
LOCATION:Urban Abbey\, 1026 Jackson Street\, Omaha\, Nebraska\, 68102\, United States
CATEGORIES:Petition Signing Event
END:VEVENT
BEGIN:VEVENT
DTSTART;TZID=UTC:20231031T130000
DTEND;TZID=UTC:20231031T160000
DTSTAMP:20260420T194022
CREATED:20230907T141858Z
LAST-MODIFIED:20230921T151338Z
UID:932-1698757200-1698768000@paidsickleavefornebraskans.org
SUMMARY:Blue Moon Fitness (Hastings\, NE)
DESCRIPTION:
URL:https://paidsickleavefornebraskans.org/events/blue-moon-fitness-hastings-ne-7/
LOCATION:Blue Moon Fitness\, Hastings\, NE\, 68901\, United States
CATEGORIES:Petition Signing Event
END:VEVENT
BEGIN:VEVENT
DTSTART;TZID=UTC:20231031T120000
DTEND;TZID=UTC:20231031T140000
DTSTAMP:20260420T194022
CREATED:20231005T154409Z
LAST-MODIFIED:20231005T154409Z
UID:1009-1698753600-1698760800@paidsickleavefornebraskans.org
SUMMARY:PSL Happy Hour + Signature Gathering
DESCRIPTION:Join us for our PSL Happy Hour!\nTuesday’s at Urban Abbey this fall from noon to 2 pm\, we will be offering Pumpkin Spice Lattes for Buy One Get One Free!\nThis will also be an opportunity to learn more about the Paid Sick Leave for Nebraskans campaign! Two wonderful kinds of P.S.L.
URL:https://paidsickleavefornebraskans.org/events/psl-happy-hour-signature-gathering-3/
LOCATION:Urban Abbey\, 1026 Jackson Street\, Omaha\, Nebraska\, 68102\, United States
CATEGORIES:Petition Signing Event
END:VEVENT
BEGIN:VEVENT
DTSTART;TZID=UTC:20231024T130000
DTEND;TZID=UTC:20231024T160000
DTSTAMP:20260420T194022
CREATED:20230907T141949Z
LAST-MODIFIED:20230921T151344Z
UID:936-1698152400-1698163200@paidsickleavefornebraskans.org
SUMMARY:Blue Moon Fitness (Hastings\, NE)
DESCRIPTION:
URL:https://paidsickleavefornebraskans.org/events/blue-moon-fitness-hastings-ne-8/
LOCATION:Blue Moon Fitness\, Hastings\, NE\, 68901\, United States
CATEGORIES:Petition Signing Event
END:VEVENT
BEGIN:VEVENT
DTSTART;TZID=UTC:20231024T120000
DTEND;TZID=UTC:20231024T140000
DTSTAMP:20260420T194022
CREATED:20231005T154327Z
LAST-MODIFIED:20231005T154327Z
UID:1005-1698148800-1698156000@paidsickleavefornebraskans.org
SUMMARY:PSL Happy Hour + Signature Gathering
DESCRIPTION:Join us for our PSL Happy Hour!\nTuesday’s at Urban Abbey this fall from noon to 2 pm\, we will be offering Pumpkin Spice Lattes for Buy One Get One Free!\nThis will also be an opportunity to learn more about the Paid Sick Leave for Nebraskans campaign! Two wonderful kinds of P.S.L.
URL:https://paidsickleavefornebraskans.org/events/psl-happy-hour-signature-gathering-2/
LOCATION:Urban Abbey\, 1026 Jackson Street\, Omaha\, Nebraska\, 68102\, United States
CATEGORIES:Petition Signing Event
END:VEVENT
BEGIN:VEVENT
DTSTART;TZID=UTC:20231017T130000
DTEND;TZID=UTC:20231017T160000
DTSTAMP:20260420T194022
CREATED:20230907T141818Z
LAST-MODIFIED:20230921T151357Z
UID:928-1697547600-1697558400@paidsickleavefornebraskans.org
SUMMARY:Blue Moon Fitness (Hastings\, NE)
DESCRIPTION:
URL:https://paidsickleavefornebraskans.org/events/blue-moon-fitness-hastings-ne-6/
LOCATION:Blue Moon Fitness\, Hastings\, NE\, 68901\, United States
CATEGORIES:Petition Signing Event
END:VEVENT
BEGIN:VEVENT
DTSTART;TZID=UTC:20231014T090000
DTEND;TZID=UTC:20231014T120000
DTSTAMP:20260420T194022
CREATED:20231005T145232Z
LAST-MODIFIED:20231005T145232Z
UID:997-1697274000-1697284800@paidsickleavefornebraskans.org
SUMMARY:Omaha Farmer's Market
DESCRIPTION:
URL:https://paidsickleavefornebraskans.org/events/omaha-farmers-market-2/
LOCATION:Old Market\, South 11th Street & Jackson Street\, Omaha\, NE\, United States
CATEGORIES:Petition Signing Event
END:VEVENT
BEGIN:VEVENT
DTSTART;TZID=UTC:20231010T130000
DTEND;TZID=UTC:20231010T160000
DTSTAMP:20260420T194022
CREATED:20230907T141756Z
LAST-MODIFIED:20230921T151406Z
UID:924-1696942800-1696953600@paidsickleavefornebraskans.org
SUMMARY:Blue Moon Fitness (Hastings\, NE)
DESCRIPTION:
URL:https://paidsickleavefornebraskans.org/events/blue-moon-fitness-hastings-ne-5/
LOCATION:Blue Moon Fitness\, Hastings\, NE\, 68901\, United States
CATEGORIES:Petition Signing Event
END:VEVENT
BEGIN:VEVENT
DTSTART;TZID=UTC:20231010T120000
DTEND;TZID=UTC:20231010T140000
DTSTAMP:20260420T194022
CREATED:20231005T154222Z
LAST-MODIFIED:20231005T154222Z
UID:1001-1696939200-1696946400@paidsickleavefornebraskans.org
SUMMARY:PSL Happy Hour + Signature Gathering
DESCRIPTION:Join us for our PSL Happy Hour!\nTuesday’s at Urban Abbey this fall from noon to 2 pm\, we will be offering Pumpkin Spice Lattes for Buy One Get One Free!\nThis will also be an opportunity to learn more about the Paid Sick Leave for Nebraskans campaign! Two wonderful kinds of P.S.L.
URL:https://paidsickleavefornebraskans.org/events/psl-happy-hour-signature-gathering/
LOCATION:Urban Abbey\, 1026 Jackson Street\, Omaha\, Nebraska\, 68102\, United States
CATEGORIES:Petition Signing Event
END:VEVENT
BEGIN:VEVENT
DTSTART;TZID=UTC:20231006T090000
DTEND;TZID=UTC:20231006T120000
DTSTAMP:20260420T194022
CREATED:20231005T145053Z
LAST-MODIFIED:20231005T145111Z
UID:993-1696582800-1696593600@paidsickleavefornebraskans.org
SUMMARY:Omaha Farmer's Market
DESCRIPTION:
URL:https://paidsickleavefornebraskans.org/events/omaha-farmers-market/
LOCATION:Old Market\, South 11th Street & Jackson Street\, Omaha\, NE\, United States
CATEGORIES:Petition Signing Event
END:VEVENT
BEGIN:VEVENT
DTSTART;TZID=UTC:20231003T130000
DTEND;TZID=UTC:20231003T160000
DTSTAMP:20260420T194022
CREATED:20230907T141727Z
LAST-MODIFIED:20230921T151408Z
UID:920-1696338000-1696348800@paidsickleavefornebraskans.org
SUMMARY:Blue Moon Fitness (Hastings\, NE)
DESCRIPTION:
URL:https://paidsickleavefornebraskans.org/events/blue-moon-fitness-hastings-ne-4/
LOCATION:Blue Moon Fitness\, Hastings\, NE\, 68901\, United States
CATEGORIES:Petition Signing Event
END:VEVENT
BEGIN:VEVENT
DTSTART;TZID=UTC:20230930T090000
DTEND;TZID=UTC:20230930T120000
DTSTAMP:20260420T194022
CREATED:20230815T142951Z
LAST-MODIFIED:20230921T151952Z
UID:722-1696064400-1696075200@paidsickleavefornebraskans.org
SUMMARY:Bellevue Farmer's Market
DESCRIPTION:
URL:https://paidsickleavefornebraskans.org/events/signature-gathering-at-bellevue-farmers-market-7/
LOCATION:Bellevue\, 2001 Franklin Street\, Bellevue\, NE\, 68005\, United States
CATEGORIES:Petition Signing Event
END:VEVENT
BEGIN:VEVENT
DTSTART;TZID=UTC:20230927T170000
DTEND;TZID=UTC:20230927T220000
DTSTAMP:20260420T194022
CREATED:20230725T201045Z
LAST-MODIFIED:20230815T143215Z
UID:424-1695834000-1695852000@paidsickleavefornebraskans.org
SUMMARY:Papillion Farmer's Market
DESCRIPTION:
URL:https://paidsickleavefornebraskans.org/events/signature-gathering-at-papillion-farmers-market-9/
LOCATION:City Park\, Halleck Park Road\, Papillion\, NE\, 68046\, United States
CATEGORIES:Petition Signing Event
END:VEVENT
BEGIN:VEVENT
DTSTART;TZID=UTC:20230926T130000
DTEND;TZID=UTC:20230926T160000
DTSTAMP:20260420T194022
CREATED:20230907T141704Z
LAST-MODIFIED:20230907T141704Z
UID:916-1695733200-1695744000@paidsickleavefornebraskans.org
SUMMARY:Blue Moon Fitness (Hastings\, NE)
DESCRIPTION:
URL:https://paidsickleavefornebraskans.org/events/blue-moon-fitness-hastings-ne-3/
LOCATION:Blue Moon Fitness\, Hastings\, NE\, 68901\, United States
CATEGORIES:Petition Signing Event
END:VEVENT
BEGIN:VEVENT
DTSTART;TZID=UTC:20230924T100000
DTEND;TZID=UTC:20230924T130000
DTSTAMP:20260420T194022
CREATED:20230725T202418Z
LAST-MODIFIED:20230815T143223Z
UID:495-1695549600-1695560400@paidsickleavefornebraskans.org
SUMMARY:College View Farmer's Market
DESCRIPTION:
URL:https://paidsickleavefornebraskans.org/events/signature-gathering-at-college-view-farmers-market-12/
LOCATION:Union College Parking Lot\, 3800 S 48th Street\, Lincolne\, NE\, 68506\, United States
CATEGORIES:Petition Signing Event
END:VEVENT
BEGIN:VEVENT
DTSTART;TZID=UTC:20230924T100000
DTEND;TZID=UTC:20230924T130000
DTSTAMP:20260420T194022
CREATED:20230725T200155Z
LAST-MODIFIED:20230921T151600Z
UID:383-1695549600-1695560400@paidsickleavefornebraskans.org
SUMMARY:Aksarben Farmer's Market
DESCRIPTION:
URL:https://paidsickleavefornebraskans.org/events/signature-gathering-at-aksarben-farmers-market-7/
LOCATION:NE
CATEGORIES:Petition Signing Event
END:VEVENT
BEGIN:VEVENT
DTSTART;TZID=UTC:20230923T090000
DTEND;TZID=UTC:20230923T120000
DTSTAMP:20260420T194022
CREATED:20230815T142920Z
LAST-MODIFIED:20230921T151947Z
UID:718-1695459600-1695470400@paidsickleavefornebraskans.org
SUMMARY:Bellevue Farmer's Market
DESCRIPTION:
URL:https://paidsickleavefornebraskans.org/events/signature-gathering-at-bellevue-farmers-market-6/
LOCATION:Bellevue\, 2001 Franklin Street\, Bellevue\, NE\, 68005\, United States
CATEGORIES:Petition Signing Event
END:VEVENT
BEGIN:VEVENT
DTSTART;TZID=UTC:20230923T090000
DTEND;TZID=UTC:20230923T120000
DTSTAMP:20260420T194022
CREATED:20230725T203018Z
LAST-MODIFIED:20230815T143239Z
UID:532-1695459600-1695470400@paidsickleavefornebraskans.org
SUMMARY:Lincoln Haymarket Farmer's Market
DESCRIPTION:
URL:https://paidsickleavefornebraskans.org/events/signature-collection-at-lincoln-haymarket-farmers-market-9/
LOCATION:Haymarket\, North 8th Street and P Street\, Lincoln\, NE\, 68508\, United States
CATEGORIES:Petition Signing Event
END:VEVENT
BEGIN:VEVENT
DTSTART;TZID=UTC:20230923T090000
DTEND;TZID=UTC:20230923T120000
DTSTAMP:20260420T194022
CREATED:20230725T195710Z
LAST-MODIFIED:20230815T143252Z
UID:359-1695459600-1695470400@paidsickleavefornebraskans.org
SUMMARY:Omaha Farmer’s Market
DESCRIPTION:
URL:https://paidsickleavefornebraskans.org/events/signature-gathering-at-omaha-farmers-market-8/
LOCATION:Old Market\, South 11th Street & Jackson Street\, Omaha\, NE\, United States
CATEGORIES:Petition Signing Event
END:VEVENT
BEGIN:VEVENT
DTSTART;TZID=UTC:20230920T170000
DTEND;TZID=UTC:20230920T200000
DTSTAMP:20260420T194022
CREATED:20230725T201015Z
LAST-MODIFIED:20230815T143330Z
UID:420-1695229200-1695240000@paidsickleavefornebraskans.org
SUMMARY:Papillion Farmer's Market
DESCRIPTION:
URL:https://paidsickleavefornebraskans.org/events/signature-gathering-at-papillion-farmers-market-8/
LOCATION:City Park\, Halleck Park Road\, Papillion\, NE\, 68046\, United States
CATEGORIES:Petition Signing Event
END:VEVENT
BEGIN:VEVENT
DTSTART;TZID=UTC:20230919T130000
DTEND;TZID=UTC:20230919T160000
DTSTAMP:20260420T194022
CREATED:20230907T141637Z
LAST-MODIFIED:20230907T141637Z
UID:912-1695128400-1695139200@paidsickleavefornebraskans.org
SUMMARY:Blue Moon Fitness (Hastings\, NE)
DESCRIPTION:
URL:https://paidsickleavefornebraskans.org/events/blue-moon-fitness-hastings-ne-2/
LOCATION:Blue Moon Fitness\, Hastings\, NE\, 68901\, United States
CATEGORIES:Petition Signing Event
END:VEVENT
BEGIN:VEVENT
DTSTART;TZID=UTC:20230917T100000
DTEND;TZID=UTC:20230917T230000
DTSTAMP:20260420T194022
CREATED:20230725T202350Z
LAST-MODIFIED:20230815T143338Z
UID:491-1694944800-1694991600@paidsickleavefornebraskans.org
SUMMARY:College View Farmer's Market
DESCRIPTION:
URL:https://paidsickleavefornebraskans.org/events/signature-gathering-at-college-view-farmers-market-11/
LOCATION:Union College Parking Lot\, 3800 S 48th Street\, Lincolne\, NE\, 68506\, United States
CATEGORIES:Petition Signing Event
END:VEVENT
BEGIN:VEVENT
DTSTART;TZID=UTC:20230917T100000
DTEND;TZID=UTC:20230917T130000
DTSTAMP:20260420T194022
CREATED:20230725T202055Z
LAST-MODIFIED:20230815T143309Z
UID:475-1694944800-1694955600@paidsickleavefornebraskans.org
SUMMARY:College View Farmer's Market
DESCRIPTION:
URL:https://paidsickleavefornebraskans.org/events/signature-gathering-at-college-view-farmers-market-7/
LOCATION:Union College Parking Lot\, 3800 S 48th Street\, Lincolne\, NE\, 68506\, United States
CATEGORIES:Petition Signing Event
END:VEVENT
BEGIN:VEVENT
DTSTART;TZID=UTC:20230917T100000
DTEND;TZID=UTC:20230917T130000
DTSTAMP:20260420T194022
CREATED:20230725T200125Z
LAST-MODIFIED:20230921T151553Z
UID:379-1694944800-1694955600@paidsickleavefornebraskans.org
SUMMARY:Aksarben Farmer's Market
DESCRIPTION:
URL:https://paidsickleavefornebraskans.org/events/signature-gathering-at-aksarben-farmers-market-6/
LOCATION:Aksarben Village\, 2121 S 67th Street\, Omaha\, NE\, 68106\, United States
CATEGORIES:Petition Signing Event
END:VEVENT
BEGIN:VEVENT
DTSTART;TZID=UTC:20230916T110000
DTEND;TZID=UTC:20230916T150000
DTSTAMP:20260420T194022
CREATED:20230914T211059Z
LAST-MODIFIED:20230914T211059Z
UID:965-1694862000-1694876400@paidsickleavefornebraskans.org
SUMMARY:Gothenburg Harvest Festival Arts in the Park
DESCRIPTION:
URL:https://paidsickleavefornebraskans.org/events/gothenburg-harvest-festival-arts-in-the-park/
LOCATION:Ehmen Park\, Lake Avenue & 15th Street\, Gothenburg\, NE\, 69138\, United States
CATEGORIES:Petition Signing Event
END:VEVENT
BEGIN:VEVENT
DTSTART;TZID=UTC:20230916T090000
DTEND;TZID=UTC:20230916T120000
DTSTAMP:20260420T194022
CREATED:20230815T142851Z
LAST-MODIFIED:20230921T151943Z
UID:714-1694854800-1694865600@paidsickleavefornebraskans.org
SUMMARY:Bellevue Farmer's Market
DESCRIPTION:
URL:https://paidsickleavefornebraskans.org/events/signature-gathering-at-bellevue-farmers-market-5/
LOCATION:Bellevue\, 2001 Franklin Street\, Bellevue\, NE\, 68005\, United States
CATEGORIES:Petition Signing Event
END:VEVENT
END:VCALENDAR