BEGIN:VCALENDAR
VERSION:2.0
PRODID:-//Paid Sick Leave for Nebraskans - ECPv6.15.17.1//NONSGML v1.0//EN
CALSCALE:GREGORIAN
METHOD:PUBLISH
X-ORIGINAL-URL:https://paidsickleavefornebraskans.org
X-WR-CALDESC:Events for Paid Sick Leave for Nebraskans
REFRESH-INTERVAL;VALUE=DURATION:PT1H
X-Robots-Tag:noindex
X-PUBLISHED-TTL:PT1H
BEGIN:VTIMEZONE
TZID:UTC
BEGIN:STANDARD
TZOFFSETFROM:+0000
TZOFFSETTO:+0000
TZNAME:UTC
DTSTART:20220101T000000
END:STANDARD
END:VTIMEZONE
BEGIN:VEVENT
DTSTART;TZID=UTC:20240131T173000
DTEND;TZID=UTC:20240131T193000
DTSTAMP:20260420T153850
CREATED:20240122T154107Z
LAST-MODIFIED:20240122T154343Z
UID:1289-1706722200-1706729400@paidsickleavefornebraskans.org
SUMMARY:BEETLEJUICE The Musical
DESCRIPTION:
URL:https://paidsickleavefornebraskans.org/events/beetlejuice-the-musical-2/
LOCATION:Orpheum Theater\, 409 S 16th St\, Omaha\, NE\, 69102\, United States
CATEGORIES:Petition Signing Event
END:VEVENT
BEGIN:VEVENT
DTSTART;TZID=UTC:20240130T173000
DTEND;TZID=UTC:20240130T193000
DTSTAMP:20260420T153850
CREATED:20240122T154033Z
LAST-MODIFIED:20240122T154033Z
UID:1284-1706635800-1706643000@paidsickleavefornebraskans.org
SUMMARY:BEETLEJUICE The Musical
DESCRIPTION:
URL:https://paidsickleavefornebraskans.org/events/beetlejuice-the-musical/
LOCATION:Orpheum Theater\, 409 S 16th St\, Omaha\, NE\, 69102\, United States
CATEGORIES:Petition Signing Event
END:VEVENT
BEGIN:VEVENT
DTSTART;TZID=UTC:20240129T163000
DTEND;TZID=UTC:20240129T183000
DTSTAMP:20260420T153850
CREATED:20240122T153750Z
LAST-MODIFIED:20240122T153750Z
UID:1280-1706545800-1706553000@paidsickleavefornebraskans.org
SUMMARY:Disturbed Concert
DESCRIPTION:
URL:https://paidsickleavefornebraskans.org/events/disturbed-concert/
LOCATION:CHI Health Center Arena\, 455 N 10th St\, Omaha\, NE\, 68102\, United States
CATEGORIES:Petition Signing Event
END:VEVENT
BEGIN:VEVENT
DTSTART;TZID=UTC:20240129T150000
DTEND;TZID=UTC:20240129T180000
DTSTAMP:20260420T153850
CREATED:20240110T143152Z
LAST-MODIFIED:20240207T201114Z
UID:1107-1706540400-1706551200@paidsickleavefornebraskans.org
SUMMARY:The Mill on Leavenworth
DESCRIPTION:
URL:https://paidsickleavefornebraskans.org/events/the-mill-6/
LOCATION:The Mill on Leavenworth\, 3105 Leavenworth Street\, Omaha\, NE\, 68105\, United States
CATEGORIES:Petition Signing Event
END:VEVENT
BEGIN:VEVENT
DTSTART;TZID=UTC:20240129T150000
DTEND;TZID=UTC:20240129T170000
DTSTAMP:20260420T153850
CREATED:20240110T162030Z
LAST-MODIFIED:20240110T162030Z
UID:1162-1706540400-1706547600@paidsickleavefornebraskans.org
SUMMARY:Bad Seed Coffee
DESCRIPTION:
URL:https://paidsickleavefornebraskans.org/events/bad-seed-coffee-3/
LOCATION:Bad Seed Coffee\, 2452 Harney St.\, Omaha\, NE\, 68102\, United States
CATEGORIES:Petition Signing Event
END:VEVENT
BEGIN:VEVENT
DTSTART;TZID=UTC:20240126T070000
DTEND;TZID=UTC:20240126T090000
DTSTAMP:20260420T153850
CREATED:20240110T162929Z
LAST-MODIFIED:20240110T162929Z
UID:1207-1706252400-1706259600@paidsickleavefornebraskans.org
SUMMARY:Blue Line Coffee
DESCRIPTION:
URL:https://paidsickleavefornebraskans.org/events/blue-line-coffee-3/
LOCATION:Blue Line Coffee\, 4924 Underwood Ave\, Omaha\, NE\, 68132\, United States
CATEGORIES:Petition Signing Event
END:VEVENT
BEGIN:VEVENT
DTSTART;TZID=UTC:20240125T150000
DTEND;TZID=UTC:20240125T180000
DTSTAMP:20260420T153850
CREATED:20240110T143120Z
LAST-MODIFIED:20240207T201119Z
UID:1103-1706194800-1706205600@paidsickleavefornebraskans.org
SUMMARY:The Mill on Leavenworth
DESCRIPTION:
URL:https://paidsickleavefornebraskans.org/events/the-mill-5/
LOCATION:The Mill on Leavenworth\, 3105 Leavenworth Street\, Omaha\, NE\, 68105\, United States
CATEGORIES:Petition Signing Event
END:VEVENT
BEGIN:VEVENT
DTSTART;TZID=UTC:20240122T150000
DTEND;TZID=UTC:20240122T180000
DTSTAMP:20260420T153850
CREATED:20240110T142932Z
LAST-MODIFIED:20240207T201125Z
UID:1099-1705935600-1705946400@paidsickleavefornebraskans.org
SUMMARY:The Mill on Leavenworth
DESCRIPTION:
URL:https://paidsickleavefornebraskans.org/events/the-mill-4/
LOCATION:The Mill on Leavenworth\, 3105 Leavenworth Street\, Omaha\, NE\, 68105\, United States
CATEGORIES:Petition Signing Event
END:VEVENT
BEGIN:VEVENT
DTSTART;TZID=UTC:20240122T150000
DTEND;TZID=UTC:20240122T170000
DTSTAMP:20260420T153850
CREATED:20240110T162002Z
LAST-MODIFIED:20240110T162002Z
UID:1158-1705935600-1705942800@paidsickleavefornebraskans.org
SUMMARY:Bad Seed Coffee
DESCRIPTION:
URL:https://paidsickleavefornebraskans.org/events/bad-seed-coffee-2/
LOCATION:Bad Seed Coffee\, 2452 Harney St.\, Omaha\, NE\, 68102\, United States
CATEGORIES:Petition Signing Event
END:VEVENT
BEGIN:VEVENT
DTSTART;TZID=UTC:20240119T070000
DTEND;TZID=UTC:20240119T090000
DTSTAMP:20260420T153850
CREATED:20240110T162906Z
LAST-MODIFIED:20240110T162906Z
UID:1203-1705647600-1705654800@paidsickleavefornebraskans.org
SUMMARY:Blue Line Coffee
DESCRIPTION:
URL:https://paidsickleavefornebraskans.org/events/blue-line-coffee-2/
LOCATION:Blue Line Coffee\, 4924 Underwood Ave\, Omaha\, NE\, 68132\, United States
CATEGORIES:Petition Signing Event
END:VEVENT
BEGIN:VEVENT
DTSTART;TZID=UTC:20240118T150000
DTEND;TZID=UTC:20240118T180000
DTSTAMP:20260420T153850
CREATED:20240110T142855Z
LAST-MODIFIED:20240110T143359Z
UID:1094-1705590000-1705600800@paidsickleavefornebraskans.org
SUMMARY:The Mill
DESCRIPTION:
URL:https://paidsickleavefornebraskans.org/events/the-mill-3/
LOCATION:The Mill Coffee and Tea\, 800 P St\, Lincoln\, NE\, 68508\, United States
CATEGORIES:Petition Signing Event
END:VEVENT
BEGIN:VEVENT
DTSTART;TZID=UTC:20240115T150000
DTEND;TZID=UTC:20240115T180000
DTSTAMP:20260420T153850
CREATED:20240110T142828Z
LAST-MODIFIED:20240110T143411Z
UID:1090-1705330800-1705341600@paidsickleavefornebraskans.org
SUMMARY:The Mill
DESCRIPTION:
URL:https://paidsickleavefornebraskans.org/events/the-mill-2/
LOCATION:The Mill on Leavenworth\, 3105 Leavenworth Street\, Omaha\, NE\, 68105\, United States
CATEGORIES:Petition Signing Event
END:VEVENT
BEGIN:VEVENT
DTSTART;TZID=UTC:20240115T150000
DTEND;TZID=UTC:20240115T170000
DTSTAMP:20260420T153850
CREATED:20240110T161932Z
LAST-MODIFIED:20240110T161932Z
UID:1153-1705330800-1705338000@paidsickleavefornebraskans.org
SUMMARY:Bad Seed Coffee
DESCRIPTION:
URL:https://paidsickleavefornebraskans.org/events/bad-seed-coffee/
LOCATION:Bad Seed Coffee\, 2452 Harney St.\, Omaha\, NE\, 68102\, United States
CATEGORIES:Petition Signing Event
END:VEVENT
BEGIN:VEVENT
DTSTART;TZID=UTC:20240112T070000
DTEND;TZID=UTC:20240112T090000
DTSTAMP:20260420T153850
CREATED:20240110T162647Z
LAST-MODIFIED:20240110T162647Z
UID:1198-1705042800-1705050000@paidsickleavefornebraskans.org
SUMMARY:Blue Line Coffee
DESCRIPTION:
URL:https://paidsickleavefornebraskans.org/events/blue-line-coffee/
LOCATION:Blue Line Coffee\, 4924 Underwood Ave\, Omaha\, NE\, 68132\, United States
CATEGORIES:Petition Signing Event
END:VEVENT
BEGIN:VEVENT
DTSTART;TZID=UTC:20240111T150000
DTEND;TZID=UTC:20240111T180000
DTSTAMP:20260420T153850
CREATED:20240110T142745Z
LAST-MODIFIED:20240110T143405Z
UID:1085-1704985200-1704996000@paidsickleavefornebraskans.org
SUMMARY:The Mill
DESCRIPTION:
URL:https://paidsickleavefornebraskans.org/events/the-mill/
LOCATION:The Mill on Leavenworth\, 3105 Leavenworth Street\, Omaha\, NE\, 68105\, United States
CATEGORIES:Petition Signing Event
END:VEVENT
BEGIN:VEVENT
DTSTART;TZID=UTC:20231217T123000
DTEND;TZID=UTC:20231217T140000
DTSTAMP:20260420T153850
CREATED:20231211T183014Z
LAST-MODIFIED:20231211T183014Z
UID:1080-1702816200-1702821600@paidsickleavefornebraskans.org
SUMMARY:The Nutcracker
DESCRIPTION:Signature collection at Lied Center for Performing Arts before The Nutcracker showing.
URL:https://paidsickleavefornebraskans.org/events/the-nutcracker-2/
LOCATION:Lied Center for Performing Arts\, 301 N 12th St\, Lincoln\, NE\, 68508
CATEGORIES:Petition Signing Event
END:VEVENT
BEGIN:VEVENT
DTSTART;TZID=UTC:20231216T123000
DTEND;TZID=UTC:20231216T190000
DTSTAMP:20260420T153850
CREATED:20231211T182931Z
LAST-MODIFIED:20231211T182931Z
UID:1076-1702729800-1702753200@paidsickleavefornebraskans.org
SUMMARY:The Nutcracker
DESCRIPTION:Signature collection at Lied Center for Performing Arts before The Nutcracker showings.
URL:https://paidsickleavefornebraskans.org/events/the-nutcracker/
LOCATION:Lied Center for Performing Arts\, 301 N 12th St\, Lincoln\, NE\, 68508
CATEGORIES:Petition Signing Event
END:VEVENT
BEGIN:VEVENT
DTSTART;TZID=UTC:20231211T120000
DTEND;TZID=UTC:20231211T190000
DTSTAMP:20260420T153850
CREATED:20231115T003733Z
LAST-MODIFIED:20231115T003733Z
UID:1042-1702296000-1702321200@paidsickleavefornebraskans.org
SUMMARY:Pawnee County Canvass
DESCRIPTION:
URL:https://paidsickleavefornebraskans.org/events/pawnee-county-canvass/
LOCATION:Pawnee\, NE\, 68420
CATEGORIES:Petition Signing Event
END:VEVENT
BEGIN:VEVENT
DTSTART;TZID=UTC:20231203T123000
DTEND;TZID=UTC:20231203T163000
DTSTAMP:20260420T153850
CREATED:20231128T155047Z
LAST-MODIFIED:20231128T155047Z
UID:1070-1701606600-1701621000@paidsickleavefornebraskans.org
SUMMARY:Deck the Halls Concert
DESCRIPTION:Before the Lincoln Symphony Orchestra’s winter concerts at 12:30pm and 4:30pm.
URL:https://paidsickleavefornebraskans.org/events/deck-the-halls-concert/
LOCATION:Lied Center for Performing Arts\, 301 N 12th St\, Lincoln\, NE\, 68508
CATEGORIES:Petition Signing Event
END:VEVENT
BEGIN:VEVENT
DTSTART;TZID=UTC:20231203T110000
DTEND;TZID=UTC:20231203T160000
DTSTAMP:20260420T153850
CREATED:20231128T154409Z
LAST-MODIFIED:20231128T154409Z
UID:1047-1701601200-1701619200@paidsickleavefornebraskans.org
SUMMARY:KETV Holiday Festival
DESCRIPTION:
URL:https://paidsickleavefornebraskans.org/events/ketv-holiday-festival/
LOCATION:Downtown Omaha\, 801 S 10th St\, Omaha\, NE
CATEGORIES:Petition Signing Event
END:VEVENT
BEGIN:VEVENT
DTSTART;TZID=UTC:20231202T110000
DTEND;TZID=UTC:20231202T170000
DTSTAMP:20260420T153850
CREATED:20231128T154858Z
LAST-MODIFIED:20231128T154858Z
UID:1066-1701514800-1701536400@paidsickleavefornebraskans.org
SUMMARY:Winter Market on O St
DESCRIPTION:
URL:https://paidsickleavefornebraskans.org/events/winter-market-on-o-st/
LOCATION:Haymarket\, North 8th Street and P Street\, Lincoln\, NE\, 68508\, United States
CATEGORIES:Petition Signing Event
END:VEVENT
BEGIN:VEVENT
DTSTART;TZID=UTC:20231202T110000
DTEND;TZID=UTC:20231202T160000
DTSTAMP:20260420T153850
CREATED:20231128T154620Z
LAST-MODIFIED:20231128T154620Z
UID:1057-1701514800-1701532800@paidsickleavefornebraskans.org
SUMMARY:Aksarben Holiday Market
DESCRIPTION:
URL:https://paidsickleavefornebraskans.org/events/aksarben-holiday-market/
LOCATION:Stinson Park\, 2285 S 67th St\, Omaha\, NE
CATEGORIES:Petition Signing Event
END:VEVENT
BEGIN:VEVENT
DTSTART;TZID=UTC:20231201T150000
DTEND;TZID=UTC:20231201T180000
DTSTAMP:20260420T153850
CREATED:20231128T154540Z
LAST-MODIFIED:20231128T154540Z
UID:1052-1701442800-1701453600@paidsickleavefornebraskans.org
SUMMARY:Aksarben Christmas Tree Lighting
DESCRIPTION:
URL:https://paidsickleavefornebraskans.org/events/aksarben-christmas-tree-lighting/
LOCATION:Stinson Park\, 2285 S 67th St\, Omaha\, NE
CATEGORIES:Petition Signing Event
END:VEVENT
BEGIN:VEVENT
DTSTART;TZID=UTC:20231130T160000
DTEND;TZID=UTC:20231130T190000
DTSTAMP:20260420T153850
CREATED:20231128T154728Z
LAST-MODIFIED:20231128T154728Z
UID:1061-1701360000-1701370800@paidsickleavefornebraskans.org
SUMMARY:Lights On Dundee
DESCRIPTION:
URL:https://paidsickleavefornebraskans.org/events/lights-on-dundee/
LOCATION:Dundee Strip\, Omaha\, NE\, 68132
CATEGORIES:Petition Signing Event
END:VEVENT
BEGIN:VEVENT
DTSTART;TZID=UTC:20231121T120000
DTEND;TZID=UTC:20231121T140000
DTSTAMP:20260420T153850
CREATED:20231005T154637Z
LAST-MODIFIED:20231005T154637Z
UID:1021-1700568000-1700575200@paidsickleavefornebraskans.org
SUMMARY:PSL Happy Hour + Signature Gathering
DESCRIPTION:Join us for our PSL Happy Hour!\nTuesday’s at Urban Abbey this fall from noon to 2 pm\, we will be offering Pumpkin Spice Lattes for Buy One Get One Free!\nThis will also be an opportunity to learn more about the Paid Sick Leave for Nebraskans campaign! Two wonderful kinds of P.S.L.
URL:https://paidsickleavefornebraskans.org/events/psl-happy-hour-signature-gathering-6/
LOCATION:Urban Abbey\, 1026 Jackson Street\, Omaha\, Nebraska\, 68102\, United States
CATEGORIES:Petition Signing Event
END:VEVENT
BEGIN:VEVENT
DTSTART;TZID=UTC:20231119T100000
DTEND;TZID=UTC:20231119T130000
DTSTAMP:20260420T153850
CREATED:20231112T231554Z
LAST-MODIFIED:20231112T231554Z
UID:1027-1700388000-1700398800@paidsickleavefornebraskans.org
SUMMARY:College View Holiday Harvest Market
DESCRIPTION:South 48th Street & Prescott Avenue
URL:https://paidsickleavefornebraskans.org/events/college-view-holiday-harvest-market/
LOCATION:Lincoln\, NE\, Lincoln\, NE\, 68588\, United States
CATEGORIES:Petition Signing Event
END:VEVENT
BEGIN:VEVENT
DTSTART;TZID=UTC:20231118T120000
DTEND;TZID=UTC:20231118T190000
DTSTAMP:20260420T153850
CREATED:20231112T231742Z
LAST-MODIFIED:20231112T231742Z
UID:1031-1700308800-1700334000@paidsickleavefornebraskans.org
SUMMARY:Richardson County Canvass
DESCRIPTION:Please join us in some good old fashioned door knocking! Transportation and dinner will be provided. Details and logistics to follow after sign up.
URL:https://paidsickleavefornebraskans.org/events/richardson-county-canvass/
LOCATION:Falls City\, NE 68355
CATEGORIES:Petition Signing Event
END:VEVENT
BEGIN:VEVENT
DTSTART;TZID=UTC:20231114T120000
DTEND;TZID=UTC:20231114T140000
DTSTAMP:20260420T153850
CREATED:20231005T154542Z
LAST-MODIFIED:20231005T154542Z
UID:1017-1699963200-1699970400@paidsickleavefornebraskans.org
SUMMARY:PSL Happy Hour + Signature Gathering
DESCRIPTION:Join us for our PSL Happy Hour!\nTuesday’s at Urban Abbey this fall from noon to 2 pm\, we will be offering Pumpkin Spice Lattes for Buy One Get One Free!\nThis will also be an opportunity to learn more about the Paid Sick Leave for Nebraskans campaign! Two wonderful kinds of P.S.L.
URL:https://paidsickleavefornebraskans.org/events/psl-happy-hour-signature-gathering-5/
LOCATION:Urban Abbey\, 1026 Jackson Street\, Omaha\, Nebraska\, 68102\, United States
CATEGORIES:Petition Signing Event
END:VEVENT
BEGIN:VEVENT
DTSTART;TZID=UTC:20231107T120000
DTEND;TZID=UTC:20231107T140000
DTSTAMP:20260420T153850
CREATED:20231005T154453Z
LAST-MODIFIED:20231005T154453Z
UID:1013-1699358400-1699365600@paidsickleavefornebraskans.org
SUMMARY:PSL Happy Hour + Signature Gathering
DESCRIPTION:Join us for our PSL Happy Hour!\nTuesday’s at Urban Abbey this fall from noon to 2 pm\, we will be offering Pumpkin Spice Lattes for Buy One Get One Free!\nThis will also be an opportunity to learn more about the Paid Sick Leave for Nebraskans campaign! Two wonderful kinds of P.S.L.
URL:https://paidsickleavefornebraskans.org/events/psl-happy-hour-signature-gathering-4/
LOCATION:Urban Abbey\, 1026 Jackson Street\, Omaha\, Nebraska\, 68102\, United States
CATEGORIES:Petition Signing Event
END:VEVENT
BEGIN:VEVENT
DTSTART;TZID=UTC:20231031T130000
DTEND;TZID=UTC:20231031T160000
DTSTAMP:20260420T153850
CREATED:20230907T141858Z
LAST-MODIFIED:20230921T151338Z
UID:932-1698757200-1698768000@paidsickleavefornebraskans.org
SUMMARY:Blue Moon Fitness (Hastings\, NE)
DESCRIPTION:
URL:https://paidsickleavefornebraskans.org/events/blue-moon-fitness-hastings-ne-7/
LOCATION:Blue Moon Fitness\, Hastings\, NE\, 68901\, United States
CATEGORIES:Petition Signing Event
END:VEVENT
END:VCALENDAR