BEGIN:VCALENDAR
VERSION:2.0
PRODID:-//Paid Sick Leave for Nebraskans - ECPv6.15.17.1//NONSGML v1.0//EN
CALSCALE:GREGORIAN
METHOD:PUBLISH
X-WR-CALNAME:Paid Sick Leave for Nebraskans
X-ORIGINAL-URL:https://paidsickleavefornebraskans.org
X-WR-CALDESC:Events for Paid Sick Leave for Nebraskans
REFRESH-INTERVAL;VALUE=DURATION:PT1H
X-Robots-Tag:noindex
X-PUBLISHED-TTL:PT1H
BEGIN:VTIMEZONE
TZID:UTC
BEGIN:STANDARD
TZOFFSETFROM:+0000
TZOFFSETTO:+0000
TZNAME:UTC
DTSTART:20230101T000000
END:STANDARD
END:VTIMEZONE
BEGIN:VEVENT
DTSTART;TZID=UTC:20240216T180000
DTEND;TZID=UTC:20240216T193000
DTSTAMP:20260420T114029
CREATED:20240209T151940Z
LAST-MODIFIED:20240209T151940Z
UID:1389-1708106400-1708111800@paidsickleavefornebraskans.org
SUMMARY:Lincoln Symphonic Orchestra at Lied Center for Performing Arts
DESCRIPTION:
URL:https://paidsickleavefornebraskans.org/events/lincoln-symphonic-orchestra-at-lied-center-for-performing-arts/
LOCATION:Lied Center for Performing Arts\, 301 N 12th St\, Lincoln\, NE\, 68508
CATEGORIES:Petition Signing Event
END:VEVENT
BEGIN:VEVENT
DTSTART;TZID=UTC:20240216T070000
DTEND;TZID=UTC:20240216T090000
DTSTAMP:20260420T114029
CREATED:20240110T163202Z
LAST-MODIFIED:20240110T163202Z
UID:1223-1708066800-1708074000@paidsickleavefornebraskans.org
SUMMARY:Blue Line Coffee
DESCRIPTION:
URL:https://paidsickleavefornebraskans.org/events/blue-line-coffee-7/
LOCATION:Blue Line Coffee\, 4924 Underwood Ave\, Omaha\, NE\, 68132\, United States
CATEGORIES:Petition Signing Event
END:VEVENT
BEGIN:VEVENT
DTSTART;TZID=UTC:20240215T150000
DTEND;TZID=UTC:20240215T180000
DTSTAMP:20260420T114029
CREATED:20240110T143806Z
LAST-MODIFIED:20240305T155519Z
UID:1141-1708009200-1708020000@paidsickleavefornebraskans.org
SUMMARY:The Mill in Lincoln
DESCRIPTION:
URL:https://paidsickleavefornebraskans.org/events/the-mill-13/
LOCATION:The Mill Coffee and Tea\, 800 P St\, Lincoln\, NE\, 68508\, United States
CATEGORIES:Petition Signing Event
END:VEVENT
BEGIN:VEVENT
DTSTART;TZID=UTC:20240213T180000
DTEND;TZID=UTC:20240213T193000
DTSTAMP:20260420T114029
CREATED:20240209T151748Z
LAST-MODIFIED:20240209T152000Z
UID:1380-1707847200-1707852600@paidsickleavefornebraskans.org
SUMMARY:Black Violin at Steelhouse Omaha
DESCRIPTION:
URL:https://paidsickleavefornebraskans.org/events/black-violin-steelhouse-omaha/
LOCATION:Steelhouse Omaha\, 1100 Dodge St\, Omaha\, NE\, 68102\, United States
CATEGORIES:Petition Signing Event
END:VEVENT
BEGIN:VEVENT
DTSTART;TZID=UTC:20240212T150000
DTEND;TZID=UTC:20240212T180000
DTSTAMP:20260420T114029
CREATED:20240110T143612Z
LAST-MODIFIED:20240305T155534Z
UID:1125-1707750000-1707760800@paidsickleavefornebraskans.org
SUMMARY:The Mill in Lincoln
DESCRIPTION:
URL:https://paidsickleavefornebraskans.org/events/the-mill-9/
LOCATION:The Mill Coffee and Tea\, 800 P St\, Lincoln\, NE\, 68508\, United States
CATEGORIES:Petition Signing Event
END:VEVENT
BEGIN:VEVENT
DTSTART;TZID=UTC:20240212T150000
DTEND;TZID=UTC:20240212T170000
DTSTAMP:20260420T114029
CREATED:20240110T162131Z
LAST-MODIFIED:20240110T162131Z
UID:1170-1707750000-1707757200@paidsickleavefornebraskans.org
SUMMARY:Bad Seed Coffee
DESCRIPTION:
URL:https://paidsickleavefornebraskans.org/events/bad-seed-coffee-5/
LOCATION:Bad Seed Coffee\, 2452 Harney St.\, Omaha\, NE\, 68102\, United States
CATEGORIES:Petition Signing Event
END:VEVENT
BEGIN:VEVENT
DTSTART;TZID=UTC:20240211T150000
DTEND;TZID=UTC:20240211T173000
DTSTAMP:20260420T114029
CREATED:20240206T154745Z
LAST-MODIFIED:20240206T154745Z
UID:1352-1707663600-1707672600@paidsickleavefornebraskans.org
SUMMARY:Steeple Brewing Co.
DESCRIPTION:Steeple Brewing Co 717 W 1st St.
URL:https://paidsickleavefornebraskans.org/events/steeple-brewing-co/
LOCATION:Steeple Brewing Co.\, 717 W 1st St.\, Hastings\, NE\, 68901\, United States
CATEGORIES:Petition Signing Event
END:VEVENT
BEGIN:VEVENT
DTSTART;TZID=UTC:20240209T173000
DTEND;TZID=UTC:20240209T190000
DTSTAMP:20260420T114029
CREATED:20240209T151843Z
LAST-MODIFIED:20240209T151843Z
UID:1385-1707499800-1707505200@paidsickleavefornebraskans.org
SUMMARY:Nate Bargatze at CHI Health Center
DESCRIPTION:
URL:https://paidsickleavefornebraskans.org/events/nate-bargatze-at-chi-health-center/
LOCATION:CHI Health Center Arena\, 455 N 10th St\, Omaha\, NE\, 68102\, United States
CATEGORIES:Petition Signing Event
END:VEVENT
BEGIN:VEVENT
DTSTART;TZID=UTC:20240209T163000
DTEND;TZID=UTC:20240209T193000
DTSTAMP:20260420T114029
CREATED:20240201T153159Z
LAST-MODIFIED:20240201T153159Z
UID:1316-1707496200-1707507000@paidsickleavefornebraskans.org
SUMMARY:Lincoln Exposed
DESCRIPTION:Join us in collecting signatures in Downtown Lincoln during one of Lincoln’s biggest music festival!
URL:https://paidsickleavefornebraskans.org/events/lincoln-exposed-3/
LOCATION:Downtown Lincoln\, North 14th & O Street\, Lincoln\, NE\, 68508\, United States
CATEGORIES:Petition Signing Event
END:VEVENT
BEGIN:VEVENT
DTSTART;TZID=UTC:20240209T070000
DTEND;TZID=UTC:20240209T090000
DTSTAMP:20260420T114029
CREATED:20240110T163130Z
LAST-MODIFIED:20240110T163130Z
UID:1219-1707462000-1707469200@paidsickleavefornebraskans.org
SUMMARY:Blue Line Coffee
DESCRIPTION:
URL:https://paidsickleavefornebraskans.org/events/blue-line-coffee-6/
LOCATION:Blue Line Coffee\, 4924 Underwood Ave\, Omaha\, NE\, 68132\, United States
CATEGORIES:Petition Signing Event
END:VEVENT
BEGIN:VEVENT
DTSTART;TZID=UTC:20240208T163000
DTEND;TZID=UTC:20240208T193000
DTSTAMP:20260420T114029
CREATED:20240201T153109Z
LAST-MODIFIED:20240201T153109Z
UID:1312-1707409800-1707420600@paidsickleavefornebraskans.org
SUMMARY:Lincoln Exposed
DESCRIPTION:Join us in collecting signatures in Downtown Lincoln during one of Lincoln’s biggest music festival!
URL:https://paidsickleavefornebraskans.org/events/lincoln-exposed-2/
LOCATION:Downtown Lincoln\, North 14th & O Street\, Lincoln\, NE\, 68508\, United States
CATEGORIES:Petition Signing Event
END:VEVENT
BEGIN:VEVENT
DTSTART;TZID=UTC:20240208T150000
DTEND;TZID=UTC:20240208T180000
DTSTAMP:20260420T114029
CREATED:20240110T143735Z
LAST-MODIFIED:20240305T155735Z
UID:1137-1707404400-1707415200@paidsickleavefornebraskans.org
SUMMARY:The Mill in Lincoln
DESCRIPTION:
URL:https://paidsickleavefornebraskans.org/events/the-mill-12/
LOCATION:The Mill Coffee and Tea\, 800 P St\, Lincoln\, NE\, 68508\, United States
CATEGORIES:Petition Signing Event
END:VEVENT
BEGIN:VEVENT
DTSTART;TZID=UTC:20240207T163000
DTEND;TZID=UTC:20240207T193000
DTSTAMP:20260420T114029
CREATED:20240201T153014Z
LAST-MODIFIED:20240201T153032Z
UID:1306-1707323400-1707334200@paidsickleavefornebraskans.org
SUMMARY:Lincoln Exposed
DESCRIPTION:Join us in collecting signatures in Downtown Lincoln during one of Lincoln’s biggest music festival!
URL:https://paidsickleavefornebraskans.org/events/lincoln-exposed/
LOCATION:Downtown Lincoln\, North 14th & O Street\, Lincoln\, NE\, 68508\, United States
CATEGORIES:Petition Signing Event
END:VEVENT
BEGIN:VEVENT
DTSTART;TZID=UTC:20240205T150000
DTEND;TZID=UTC:20240205T180000
DTSTAMP:20260420T114029
CREATED:20240110T143546Z
LAST-MODIFIED:20240305T155527Z
UID:1121-1707145200-1707156000@paidsickleavefornebraskans.org
SUMMARY:The Mill in Lincoln
DESCRIPTION:
URL:https://paidsickleavefornebraskans.org/events/the-mill-8/
LOCATION:The Mill Coffee and Tea\, 800 P St\, Lincoln\, NE\, 68508\, United States
CATEGORIES:Petition Signing Event
END:VEVENT
BEGIN:VEVENT
DTSTART;TZID=UTC:20240205T150000
DTEND;TZID=UTC:20240205T170000
DTSTAMP:20260420T114029
CREATED:20240110T162103Z
LAST-MODIFIED:20240110T162103Z
UID:1166-1707145200-1707152400@paidsickleavefornebraskans.org
SUMMARY:Bad Seed Coffee
DESCRIPTION:
URL:https://paidsickleavefornebraskans.org/events/bad-seed-coffee-4/
LOCATION:Bad Seed Coffee\, 2452 Harney St.\, Omaha\, NE\, 68102\, United States
CATEGORIES:Petition Signing Event
END:VEVENT
BEGIN:VEVENT
DTSTART;TZID=UTC:20240204T180000
DTEND;TZID=UTC:20240204T193000
DTSTAMP:20260420T114029
CREATED:20240201T153434Z
LAST-MODIFIED:20240201T153434Z
UID:1332-1707069600-1707075000@paidsickleavefornebraskans.org
SUMMARY:Jesus Christ Superstar
DESCRIPTION:
URL:https://paidsickleavefornebraskans.org/events/jesus-christ-superstar-3/
LOCATION:Lied Center for Performing Arts\, 301 N 12th St\, Lincoln\, NE\, 68508
CATEGORIES:Petition Signing Event
END:VEVENT
BEGIN:VEVENT
DTSTART;TZID=UTC:20240203T173000
DTEND;TZID=UTC:20240203T193000
DTSTAMP:20260420T114029
CREATED:20240122T154230Z
LAST-MODIFIED:20240122T154230Z
UID:1301-1706981400-1706988600@paidsickleavefornebraskans.org
SUMMARY:BEETLEJUICE The Musical
DESCRIPTION:
URL:https://paidsickleavefornebraskans.org/events/beetlejuice-the-musical-5/
LOCATION:Orpheum Theater\, 409 S 16th St\, Omaha\, NE\, 69102\, United States
CATEGORIES:Petition Signing Event
END:VEVENT
BEGIN:VEVENT
DTSTART;TZID=UTC:20240203T163000
DTEND;TZID=UTC:20240203T193000
DTSTAMP:20260420T114029
CREATED:20240201T153237Z
LAST-MODIFIED:20240201T153237Z
UID:1320-1706977800-1706988600@paidsickleavefornebraskans.org
SUMMARY:Lincoln Exposed
DESCRIPTION:Join us in collecting signatures in Downtown Lincoln during one of Lincoln’s biggest music festival!
URL:https://paidsickleavefornebraskans.org/events/lincoln-exposed-4/
LOCATION:Downtown Lincoln\, North 14th & O Street\, Lincoln\, NE\, 68508\, United States
CATEGORIES:Petition Signing Event
END:VEVENT
BEGIN:VEVENT
DTSTART;TZID=UTC:20240202T180000
DTEND;TZID=UTC:20240202T193000
DTSTAMP:20260420T114029
CREATED:20240201T153404Z
LAST-MODIFIED:20240201T153404Z
UID:1328-1706896800-1706902200@paidsickleavefornebraskans.org
SUMMARY:Jesus Christ Superstar
DESCRIPTION:
URL:https://paidsickleavefornebraskans.org/events/jesus-christ-superstar-2/
LOCATION:Lied Center for Performing Arts\, 301 N 12th St\, Lincoln\, NE\, 68508
CATEGORIES:Petition Signing Event
END:VEVENT
BEGIN:VEVENT
DTSTART;TZID=UTC:20240202T173000
DTEND;TZID=UTC:20240202T193000
DTSTAMP:20260420T114029
CREATED:20240122T154158Z
LAST-MODIFIED:20240122T154158Z
UID:1297-1706895000-1706902200@paidsickleavefornebraskans.org
SUMMARY:BEETLEJUICE The Musical
DESCRIPTION:
URL:https://paidsickleavefornebraskans.org/events/beetlejuice-the-musical-4/
LOCATION:Orpheum Theater\, 409 S 16th St\, Omaha\, NE\, 69102\, United States
CATEGORIES:Petition Signing Event
END:VEVENT
BEGIN:VEVENT
DTSTART;TZID=UTC:20240202T070000
DTEND;TZID=UTC:20240202T090000
DTSTAMP:20260420T114029
CREATED:20240110T163054Z
LAST-MODIFIED:20240110T163054Z
UID:1215-1706857200-1706864400@paidsickleavefornebraskans.org
SUMMARY:Blue Line Coffee
DESCRIPTION:
URL:https://paidsickleavefornebraskans.org/events/blue-line-coffee-5/
LOCATION:Blue Line Coffee\, 4924 Underwood Ave\, Omaha\, NE\, 68132\, United States
CATEGORIES:Petition Signing Event
END:VEVENT
BEGIN:VEVENT
DTSTART;TZID=UTC:20240201T180000
DTEND;TZID=UTC:20240201T193000
DTSTAMP:20260420T114029
CREATED:20240201T153329Z
LAST-MODIFIED:20240201T153329Z
UID:1324-1706810400-1706815800@paidsickleavefornebraskans.org
SUMMARY:Jesus Christ Superstar
DESCRIPTION:
URL:https://paidsickleavefornebraskans.org/events/jesus-christ-superstar/
LOCATION:Lied Center for Performing Arts\, 301 N 12th St\, Lincoln\, NE\, 68508
CATEGORIES:Petition Signing Event
END:VEVENT
BEGIN:VEVENT
DTSTART;TZID=UTC:20240201T173000
DTEND;TZID=UTC:20240201T193000
DTSTAMP:20260420T114029
CREATED:20240122T154134Z
LAST-MODIFIED:20240122T154431Z
UID:1293-1706808600-1706815800@paidsickleavefornebraskans.org
SUMMARY:BEETLEJUICE The Musical
DESCRIPTION:
URL:https://paidsickleavefornebraskans.org/events/beetlejuice-the-musical-3/
LOCATION:Orpheum Theater\, 409 S 16th St\, Omaha\, NE\, 69102\, United States
CATEGORIES:Petition Signing Event
END:VEVENT
BEGIN:VEVENT
DTSTART;TZID=UTC:20240201T150000
DTEND;TZID=UTC:20240201T180000
DTSTAMP:20260420T114029
CREATED:20240110T143324Z
LAST-MODIFIED:20240305T155434Z
UID:1111-1706799600-1706810400@paidsickleavefornebraskans.org
SUMMARY:The Mill in Lincoln
DESCRIPTION:
URL:https://paidsickleavefornebraskans.org/events/the-mill-7/
LOCATION:The Mill Coffee and Tea\, 800 P St\, Lincoln\, NE\, 68508\, United States
CATEGORIES:Petition Signing Event
END:VEVENT
BEGIN:VEVENT
DTSTART;TZID=UTC:20240131T173000
DTEND;TZID=UTC:20240131T193000
DTSTAMP:20260420T114029
CREATED:20240122T154107Z
LAST-MODIFIED:20240122T154343Z
UID:1289-1706722200-1706729400@paidsickleavefornebraskans.org
SUMMARY:BEETLEJUICE The Musical
DESCRIPTION:
URL:https://paidsickleavefornebraskans.org/events/beetlejuice-the-musical-2/
LOCATION:Orpheum Theater\, 409 S 16th St\, Omaha\, NE\, 69102\, United States
CATEGORIES:Petition Signing Event
END:VEVENT
BEGIN:VEVENT
DTSTART;TZID=UTC:20240130T173000
DTEND;TZID=UTC:20240130T193000
DTSTAMP:20260420T114029
CREATED:20240122T154033Z
LAST-MODIFIED:20240122T154033Z
UID:1284-1706635800-1706643000@paidsickleavefornebraskans.org
SUMMARY:BEETLEJUICE The Musical
DESCRIPTION:
URL:https://paidsickleavefornebraskans.org/events/beetlejuice-the-musical/
LOCATION:Orpheum Theater\, 409 S 16th St\, Omaha\, NE\, 69102\, United States
CATEGORIES:Petition Signing Event
END:VEVENT
BEGIN:VEVENT
DTSTART;TZID=UTC:20240129T163000
DTEND;TZID=UTC:20240129T183000
DTSTAMP:20260420T114029
CREATED:20240122T153750Z
LAST-MODIFIED:20240122T153750Z
UID:1280-1706545800-1706553000@paidsickleavefornebraskans.org
SUMMARY:Disturbed Concert
DESCRIPTION:
URL:https://paidsickleavefornebraskans.org/events/disturbed-concert/
LOCATION:CHI Health Center Arena\, 455 N 10th St\, Omaha\, NE\, 68102\, United States
CATEGORIES:Petition Signing Event
END:VEVENT
BEGIN:VEVENT
DTSTART;TZID=UTC:20240129T150000
DTEND;TZID=UTC:20240129T180000
DTSTAMP:20260420T114029
CREATED:20240110T143152Z
LAST-MODIFIED:20240207T201114Z
UID:1107-1706540400-1706551200@paidsickleavefornebraskans.org
SUMMARY:The Mill on Leavenworth
DESCRIPTION:
URL:https://paidsickleavefornebraskans.org/events/the-mill-6/
LOCATION:The Mill on Leavenworth\, 3105 Leavenworth Street\, Omaha\, NE\, 68105\, United States
CATEGORIES:Petition Signing Event
END:VEVENT
BEGIN:VEVENT
DTSTART;TZID=UTC:20240129T150000
DTEND;TZID=UTC:20240129T170000
DTSTAMP:20260420T114029
CREATED:20240110T162030Z
LAST-MODIFIED:20240110T162030Z
UID:1162-1706540400-1706547600@paidsickleavefornebraskans.org
SUMMARY:Bad Seed Coffee
DESCRIPTION:
URL:https://paidsickleavefornebraskans.org/events/bad-seed-coffee-3/
LOCATION:Bad Seed Coffee\, 2452 Harney St.\, Omaha\, NE\, 68102\, United States
CATEGORIES:Petition Signing Event
END:VEVENT
BEGIN:VEVENT
DTSTART;TZID=UTC:20240126T070000
DTEND;TZID=UTC:20240126T090000
DTSTAMP:20260420T114029
CREATED:20240110T162929Z
LAST-MODIFIED:20240110T162929Z
UID:1207-1706252400-1706259600@paidsickleavefornebraskans.org
SUMMARY:Blue Line Coffee
DESCRIPTION:
URL:https://paidsickleavefornebraskans.org/events/blue-line-coffee-3/
LOCATION:Blue Line Coffee\, 4924 Underwood Ave\, Omaha\, NE\, 68132\, United States
CATEGORIES:Petition Signing Event
END:VEVENT
END:VCALENDAR