BEGIN:VCALENDAR
VERSION:2.0
PRODID:-//Paid Sick Leave for Nebraskans - ECPv6.15.17.1//NONSGML v1.0//EN
CALSCALE:GREGORIAN
METHOD:PUBLISH
X-WR-CALNAME:Paid Sick Leave for Nebraskans
X-ORIGINAL-URL:https://paidsickleavefornebraskans.org
X-WR-CALDESC:Events for Paid Sick Leave for Nebraskans
REFRESH-INTERVAL;VALUE=DURATION:PT1H
X-Robots-Tag:noindex
X-PUBLISHED-TTL:PT1H
BEGIN:VTIMEZONE
TZID:UTC
BEGIN:STANDARD
TZOFFSETFROM:+0000
TZOFFSETTO:+0000
TZNAME:UTC
DTSTART:20230101T000000
END:STANDARD
END:VTIMEZONE
BEGIN:VEVENT
DTSTART;TZID=UTC:20240307T150000
DTEND;TZID=UTC:20240307T180000
DTSTAMP:20260420T074337
CREATED:20240110T164839Z
LAST-MODIFIED:20240305T160455Z
UID:1263-1709823600-1709834400@paidsickleavefornebraskans.org
SUMMARY:The Mill in Lincoln
DESCRIPTION:
URL:https://paidsickleavefornebraskans.org/events/the-mill-20/
LOCATION:The Mill Coffee and Tea\, 800 P St\, Lincoln\, NE\, 68508\, United States
CATEGORIES:Petition Signing Event
END:VEVENT
BEGIN:VEVENT
DTSTART;TZID=UTC:20240305T180000
DTEND;TZID=UTC:20240305T193000
DTSTAMP:20260420T074337
CREATED:20240228T203038Z
LAST-MODIFIED:20240228T203038Z
UID:1418-1709661600-1709667000@paidsickleavefornebraskans.org
SUMMARY:The Lion King
DESCRIPTION:
URL:https://paidsickleavefornebraskans.org/events/the-lion-king-6/
LOCATION:Orpheum Theater\, 409 S 16th St\, Omaha\, NE\, 69102\, United States
CATEGORIES:Petition Signing Event
END:VEVENT
BEGIN:VEVENT
DTSTART;TZID=UTC:20240305T000000
DTEND;TZID=UTC:20240305T000000
DTSTAMP:20260420T074337
CREATED:20240305T160536Z
LAST-MODIFIED:20240305T160536Z
UID:1512-1709596800-1709596800@paidsickleavefornebraskans.org
SUMMARY:The Mill in Lincoln
DESCRIPTION:
URL:https://paidsickleavefornebraskans.org/events/the-mill-in-lincoln/
LOCATION:The Mill Coffee and Tea\, 800 P St\, Lincoln\, NE\, 68508\, United States
CATEGORIES:Petition Signing Event
END:VEVENT
BEGIN:VEVENT
DTSTART;TZID=UTC:20240304T150000
DTEND;TZID=UTC:20240304T180000
DTSTAMP:20260420T074337
CREATED:20240110T164608Z
LAST-MODIFIED:20240305T160414Z
UID:1247-1709564400-1709575200@paidsickleavefornebraskans.org
SUMMARY:The Mill in Lincoln
DESCRIPTION:
URL:https://paidsickleavefornebraskans.org/events/the-mill-16/
LOCATION:The Mill Coffee and Tea\, 800 P St\, Lincoln\, NE\, 68508\, United States
CATEGORIES:Petition Signing Event
END:VEVENT
BEGIN:VEVENT
DTSTART;TZID=UTC:20240304T150000
DTEND;TZID=UTC:20240304T170000
DTSTAMP:20260420T074337
CREATED:20240110T162319Z
LAST-MODIFIED:20240110T162319Z
UID:1182-1709564400-1709571600@paidsickleavefornebraskans.org
SUMMARY:Bad Seed Coffee
DESCRIPTION:
URL:https://paidsickleavefornebraskans.org/events/bad-seed-coffee-8/
LOCATION:Bad Seed Coffee\, 2452 Harney St.\, Omaha\, NE\, 68102\, United States
CATEGORIES:Petition Signing Event
END:VEVENT
BEGIN:VEVENT
DTSTART;TZID=UTC:20240303T170000
DTEND;TZID=UTC:20240303T183000
DTSTAMP:20260420T074337
CREATED:20240228T202954Z
LAST-MODIFIED:20240228T204618Z
UID:1414-1709485200-1709490600@paidsickleavefornebraskans.org
SUMMARY:The Lion King
DESCRIPTION:
URL:https://paidsickleavefornebraskans.org/events/the-lion-king-5/
LOCATION:Orpheum Theater\, 409 S 16th St\, Omaha\, NE\, 69102\, United States
CATEGORIES:Petition Signing Event
END:VEVENT
BEGIN:VEVENT
DTSTART;TZID=UTC:20240303T120000
DTEND;TZID=UTC:20240303T133000
DTSTAMP:20260420T074337
CREATED:20240201T154016Z
LAST-MODIFIED:20240201T162554Z
UID:1348-1709467200-1709472600@paidsickleavefornebraskans.org
SUMMARY:Shrek: The Musical
DESCRIPTION:
URL:https://paidsickleavefornebraskans.org/events/shrek-the-musical-4/
LOCATION:Lied Center for Performing Arts\, 301 N 12th St\, Lincoln\, NE\, 68508
CATEGORIES:Petition Signing Event
END:VEVENT
BEGIN:VEVENT
DTSTART;TZID=UTC:20240303T113000
DTEND;TZID=UTC:20240303T130000
DTSTAMP:20260420T074337
CREATED:20240228T202711Z
LAST-MODIFIED:20240228T203835Z
UID:1410-1709465400-1709470800@paidsickleavefornebraskans.org
SUMMARY:The Lion King
DESCRIPTION:
URL:https://paidsickleavefornebraskans.org/events/the-lion-king-4/
LOCATION:Orpheum Theater\, 409 S 16th St\, Omaha\, NE\, 69102\, United States
CATEGORIES:Petition Signing Event
END:VEVENT
BEGIN:VEVENT
DTSTART;TZID=UTC:20240302T180000
DTEND;TZID=UTC:20240302T193000
DTSTAMP:20260420T074337
CREATED:20240228T202635Z
LAST-MODIFIED:20240228T202635Z
UID:1406-1709402400-1709407800@paidsickleavefornebraskans.org
SUMMARY:The Lion King
DESCRIPTION:
URL:https://paidsickleavefornebraskans.org/events/the-lion-king-3/
LOCATION:Orpheum Theater\, 409 S 16th St\, Omaha\, NE\, 69102\, United States
CATEGORIES:Petition Signing Event
END:VEVENT
BEGIN:VEVENT
DTSTART;TZID=UTC:20240302T180000
DTEND;TZID=UTC:20240302T193000
DTSTAMP:20260420T074337
CREATED:20240201T153852Z
LAST-MODIFIED:20240201T153852Z
UID:1344-1709402400-1709407800@paidsickleavefornebraskans.org
SUMMARY:Shrek: The Musical
DESCRIPTION:
URL:https://paidsickleavefornebraskans.org/events/shrek-the-musical-3/
LOCATION:Lied Center for Performing Arts\, 301 N 12th St\, Lincoln\, NE\, 68508
CATEGORIES:Petition Signing Event
END:VEVENT
BEGIN:VEVENT
DTSTART;TZID=UTC:20240302T100000
DTEND;TZID=UTC:20240302T223000
DTSTAMP:20260420T074337
CREATED:20240228T205138Z
LAST-MODIFIED:20240228T205152Z
UID:1489-1709373600-1709418600@paidsickleavefornebraskans.org
SUMMARY:Nebraska Poor People's Campaign: A National Call for Moral Revival
DESCRIPTION:Join us in unwavering solidarity with the Poor People’s Campaign as we echo their powerful moral indictment of the misguided priorities and immoral policies of the leadership of the Nebraska State Legislature. \nGathering with begin at 10am\, with the assembly beginning at 11am. \nWe will be collecting signatures for Paid Sick Leave and Protect Our Rights before and after the assembly.
URL:https://paidsickleavefornebraskans.org/events/nebraska-poor-peoples-campaign-a-national-call-for-moral-revival/
LOCATION:Nebraska State Capitol\, 1445 K St\, Lincoln\, NE\, 68508\, United States
CATEGORIES:Petition Signing Event
END:VEVENT
BEGIN:VEVENT
DTSTART;TZID=UTC:20240301T180000
DTEND;TZID=UTC:20240301T210000
DTSTAMP:20260420T074337
CREATED:20240228T205421Z
LAST-MODIFIED:20240228T205421Z
UID:1499-1709316000-1709326800@paidsickleavefornebraskans.org
SUMMARY:First Friday at Oak Creek
DESCRIPTION:
URL:https://paidsickleavefornebraskans.org/events/first-friday-at-oak-creek/
LOCATION:Oak Creek Plants & Flowers\, 3435 S 13th Street\, Lincoln\, NE\, 68502\, United States
CATEGORIES:Petition Signing Event
END:VEVENT
BEGIN:VEVENT
DTSTART;TZID=UTC:20240301T180000
DTEND;TZID=UTC:20240301T193000
DTSTAMP:20260420T074337
CREATED:20240228T202607Z
LAST-MODIFIED:20240228T202607Z
UID:1402-1709316000-1709321400@paidsickleavefornebraskans.org
SUMMARY:The Lion King
DESCRIPTION:
URL:https://paidsickleavefornebraskans.org/events/the-lion-king-2/
LOCATION:Orpheum Theater\, 409 S 16th St\, Omaha\, NE\, 69102\, United States
CATEGORIES:Petition Signing Event
END:VEVENT
BEGIN:VEVENT
DTSTART;TZID=UTC:20240301T180000
DTEND;TZID=UTC:20240301T193000
DTSTAMP:20260420T074337
CREATED:20240201T153820Z
LAST-MODIFIED:20240201T153820Z
UID:1340-1709316000-1709321400@paidsickleavefornebraskans.org
SUMMARY:Shrek: The Musical
DESCRIPTION:
URL:https://paidsickleavefornebraskans.org/events/shrek-the-musical-2/
LOCATION:Lied Center for Performing Arts\, 301 N 12th St\, Lincoln\, NE\, 68508
CATEGORIES:Petition Signing Event
END:VEVENT
BEGIN:VEVENT
DTSTART;TZID=UTC:20240301T070000
DTEND;TZID=UTC:20240301T090000
DTSTAMP:20260420T074337
CREATED:20240110T163014Z
LAST-MODIFIED:20240110T163746Z
UID:1211-1709276400-1709283600@paidsickleavefornebraskans.org
SUMMARY:Blue Line Coffee
DESCRIPTION:
URL:https://paidsickleavefornebraskans.org/events/blue-line-coffee-4/
LOCATION:Blue Line Coffee\, 4924 Underwood Ave\, Omaha\, NE\, 68132\, United States
CATEGORIES:Petition Signing Event
END:VEVENT
BEGIN:VEVENT
DTSTART;TZID=UTC:20240229T180000
DTEND;TZID=UTC:20240229T193000
DTSTAMP:20260420T074337
CREATED:20240228T202545Z
LAST-MODIFIED:20240228T202545Z
UID:1398-1709229600-1709235000@paidsickleavefornebraskans.org
SUMMARY:The Lion King
DESCRIPTION:
URL:https://paidsickleavefornebraskans.org/events/the-lion-king/
LOCATION:Orpheum Theater\, 409 S 16th St\, Omaha\, NE\, 69102\, United States
CATEGORIES:Petition Signing Event
END:VEVENT
BEGIN:VEVENT
DTSTART;TZID=UTC:20240229T180000
DTEND;TZID=UTC:20240229T193000
DTSTAMP:20260420T074337
CREATED:20240201T153524Z
LAST-MODIFIED:20240201T153726Z
UID:1336-1709229600-1709235000@paidsickleavefornebraskans.org
SUMMARY:Shrek: The Musical
DESCRIPTION:
URL:https://paidsickleavefornebraskans.org/events/shrek-the-musical/
LOCATION:Lied Center for Performing Arts\, 301 N 12th St\, Lincoln\, NE\, 68508
CATEGORIES:Petition Signing Event
END:VEVENT
BEGIN:VEVENT
DTSTART;TZID=UTC:20240229T150000
DTEND;TZID=UTC:20240229T180000
DTSTAMP:20260420T074337
CREATED:20240110T143855Z
LAST-MODIFIED:20240305T160340Z
UID:1149-1709218800-1709229600@paidsickleavefornebraskans.org
SUMMARY:The Mill in Lincoln
DESCRIPTION:
URL:https://paidsickleavefornebraskans.org/events/the-mill-15/
LOCATION:The Mill Coffee and Tea\, 800 P St\, Lincoln\, NE\, 68508\, United States
CATEGORIES:Petition Signing Event
END:VEVENT
BEGIN:VEVENT
DTSTART;TZID=UTC:20240226T150000
DTEND;TZID=UTC:20240226T180000
DTSTAMP:20260420T074337
CREATED:20240110T143707Z
LAST-MODIFIED:20240305T155712Z
UID:1133-1708959600-1708970400@paidsickleavefornebraskans.org
SUMMARY:The Mill in Lincoln
DESCRIPTION:
URL:https://paidsickleavefornebraskans.org/events/the-mill-11/
LOCATION:The Mill Coffee and Tea\, 800 P St\, Lincoln\, NE\, 68508\, United States
CATEGORIES:Petition Signing Event
END:VEVENT
BEGIN:VEVENT
DTSTART;TZID=UTC:20240226T150000
DTEND;TZID=UTC:20240226T170000
DTSTAMP:20260420T074337
CREATED:20240110T162231Z
LAST-MODIFIED:20240110T162231Z
UID:1178-1708959600-1708966800@paidsickleavefornebraskans.org
SUMMARY:Bad Seed Coffee
DESCRIPTION:
URL:https://paidsickleavefornebraskans.org/events/bad-seed-coffee-7/
LOCATION:Bad Seed Coffee\, 2452 Harney St.\, Omaha\, NE\, 68102\, United States
CATEGORIES:Petition Signing Event
END:VEVENT
BEGIN:VEVENT
DTSTART;TZID=UTC:20240223T070000
DTEND;TZID=UTC:20240223T090000
DTSTAMP:20260420T074337
CREATED:20240110T163249Z
LAST-MODIFIED:20240110T163249Z
UID:1227-1708671600-1708678800@paidsickleavefornebraskans.org
SUMMARY:Blue Line Coffee
DESCRIPTION:
URL:https://paidsickleavefornebraskans.org/events/blue-line-coffee-8/
LOCATION:Blue Line Coffee\, 4924 Underwood Ave\, Omaha\, NE\, 68132\, United States
CATEGORIES:Petition Signing Event
END:VEVENT
BEGIN:VEVENT
DTSTART;TZID=UTC:20240222T150000
DTEND;TZID=UTC:20240222T180000
DTSTAMP:20260420T074337
CREATED:20240110T143832Z
LAST-MODIFIED:20240305T160340Z
UID:1145-1708614000-1708624800@paidsickleavefornebraskans.org
SUMMARY:The Mill in Lincoln
DESCRIPTION:
URL:https://paidsickleavefornebraskans.org/events/the-mill-14/
LOCATION:The Mill Coffee and Tea\, 800 P St\, Lincoln\, NE\, 68508\, United States
CATEGORIES:Petition Signing Event
END:VEVENT
BEGIN:VEVENT
DTSTART;TZID=UTC:20240219T150000
DTEND;TZID=UTC:20240219T180000
DTSTAMP:20260420T074337
CREATED:20240110T143634Z
LAST-MODIFIED:20240305T155705Z
UID:1129-1708354800-1708365600@paidsickleavefornebraskans.org
SUMMARY:The Mill in Lincoln
DESCRIPTION:
URL:https://paidsickleavefornebraskans.org/events/the-mill-10/
LOCATION:The Mill Coffee and Tea\, 800 P St\, Lincoln\, NE\, 68508\, United States
CATEGORIES:Petition Signing Event
END:VEVENT
BEGIN:VEVENT
DTSTART;TZID=UTC:20240219T150000
DTEND;TZID=UTC:20240219T170000
DTSTAMP:20260420T074337
CREATED:20240110T162200Z
LAST-MODIFIED:20240110T162200Z
UID:1174-1708354800-1708362000@paidsickleavefornebraskans.org
SUMMARY:Bad Seed Coffee
DESCRIPTION:
URL:https://paidsickleavefornebraskans.org/events/bad-seed-coffee-6/
LOCATION:Bad Seed Coffee\, 2452 Harney St.\, Omaha\, NE\, 68102\, United States
CATEGORIES:Petition Signing Event
END:VEVENT
BEGIN:VEVENT
DTSTART;TZID=UTC:20240216T180000
DTEND;TZID=UTC:20240216T193000
DTSTAMP:20260420T074337
CREATED:20240209T151940Z
LAST-MODIFIED:20240209T151940Z
UID:1389-1708106400-1708111800@paidsickleavefornebraskans.org
SUMMARY:Lincoln Symphonic Orchestra at Lied Center for Performing Arts
DESCRIPTION:
URL:https://paidsickleavefornebraskans.org/events/lincoln-symphonic-orchestra-at-lied-center-for-performing-arts/
LOCATION:Lied Center for Performing Arts\, 301 N 12th St\, Lincoln\, NE\, 68508
CATEGORIES:Petition Signing Event
END:VEVENT
BEGIN:VEVENT
DTSTART;TZID=UTC:20240216T070000
DTEND;TZID=UTC:20240216T090000
DTSTAMP:20260420T074337
CREATED:20240110T163202Z
LAST-MODIFIED:20240110T163202Z
UID:1223-1708066800-1708074000@paidsickleavefornebraskans.org
SUMMARY:Blue Line Coffee
DESCRIPTION:
URL:https://paidsickleavefornebraskans.org/events/blue-line-coffee-7/
LOCATION:Blue Line Coffee\, 4924 Underwood Ave\, Omaha\, NE\, 68132\, United States
CATEGORIES:Petition Signing Event
END:VEVENT
BEGIN:VEVENT
DTSTART;TZID=UTC:20240215T150000
DTEND;TZID=UTC:20240215T180000
DTSTAMP:20260420T074337
CREATED:20240110T143806Z
LAST-MODIFIED:20240305T155519Z
UID:1141-1708009200-1708020000@paidsickleavefornebraskans.org
SUMMARY:The Mill in Lincoln
DESCRIPTION:
URL:https://paidsickleavefornebraskans.org/events/the-mill-13/
LOCATION:The Mill Coffee and Tea\, 800 P St\, Lincoln\, NE\, 68508\, United States
CATEGORIES:Petition Signing Event
END:VEVENT
BEGIN:VEVENT
DTSTART;TZID=UTC:20240213T180000
DTEND;TZID=UTC:20240213T193000
DTSTAMP:20260420T074337
CREATED:20240209T151748Z
LAST-MODIFIED:20240209T152000Z
UID:1380-1707847200-1707852600@paidsickleavefornebraskans.org
SUMMARY:Black Violin at Steelhouse Omaha
DESCRIPTION:
URL:https://paidsickleavefornebraskans.org/events/black-violin-steelhouse-omaha/
LOCATION:Steelhouse Omaha\, 1100 Dodge St\, Omaha\, NE\, 68102\, United States
CATEGORIES:Petition Signing Event
END:VEVENT
BEGIN:VEVENT
DTSTART;TZID=UTC:20240212T150000
DTEND;TZID=UTC:20240212T180000
DTSTAMP:20260420T074337
CREATED:20240110T143612Z
LAST-MODIFIED:20240305T155534Z
UID:1125-1707750000-1707760800@paidsickleavefornebraskans.org
SUMMARY:The Mill in Lincoln
DESCRIPTION:
URL:https://paidsickleavefornebraskans.org/events/the-mill-9/
LOCATION:The Mill Coffee and Tea\, 800 P St\, Lincoln\, NE\, 68508\, United States
CATEGORIES:Petition Signing Event
END:VEVENT
BEGIN:VEVENT
DTSTART;TZID=UTC:20240212T150000
DTEND;TZID=UTC:20240212T170000
DTSTAMP:20260420T074337
CREATED:20240110T162131Z
LAST-MODIFIED:20240110T162131Z
UID:1170-1707750000-1707757200@paidsickleavefornebraskans.org
SUMMARY:Bad Seed Coffee
DESCRIPTION:
URL:https://paidsickleavefornebraskans.org/events/bad-seed-coffee-5/
LOCATION:Bad Seed Coffee\, 2452 Harney St.\, Omaha\, NE\, 68102\, United States
CATEGORIES:Petition Signing Event
END:VEVENT
END:VCALENDAR