BEGIN:VCALENDAR
VERSION:2.0
PRODID:-//Paid Sick Leave for Nebraskans - ECPv6.15.17.1//NONSGML v1.0//EN
CALSCALE:GREGORIAN
METHOD:PUBLISH
X-ORIGINAL-URL:https://paidsickleavefornebraskans.org
X-WR-CALDESC:Events for Paid Sick Leave for Nebraskans
REFRESH-INTERVAL;VALUE=DURATION:PT1H
X-Robots-Tag:noindex
X-PUBLISHED-TTL:PT1H
BEGIN:VTIMEZONE
TZID:UTC
BEGIN:STANDARD
TZOFFSETFROM:+0000
TZOFFSETTO:+0000
TZNAME:UTC
DTSTART:20230101T000000
END:STANDARD
END:VTIMEZONE
BEGIN:VEVENT
DTSTART;TZID=UTC:20240525T110000
DTEND;TZID=UTC:20240525T150000
DTSTAMP:20260419T145630
CREATED:20240426T185130Z
LAST-MODIFIED:20240426T185130Z
UID:1975-1716634800-1716649200@paidsickleavefornebraskans.org
SUMMARY:Paid Sick Leave Drive-thru
DESCRIPTION:
URL:https://paidsickleavefornebraskans.org/events/paid-sick-leave-drive-thru-3/
LOCATION:Grand Island Library\, 1124 W 2nd St.\, Grand Island\, 68801\, United States
CATEGORIES:Petition Signing Event
END:VEVENT
BEGIN:VEVENT
DTSTART;TZID=UTC:20240513T150000
DTEND;TZID=UTC:20240513T180000
DTSTAMP:20260419T145630
CREATED:20240305T161309Z
LAST-MODIFIED:20240305T161309Z
UID:1579-1715612400-1715623200@paidsickleavefornebraskans.org
SUMMARY:The Mill in Lincoln
DESCRIPTION:
URL:https://paidsickleavefornebraskans.org/events/the-mill-in-lincoln-12/
LOCATION:The Mill Coffee and Tea\, 800 P St\, Lincoln\, NE\, 68508\, United States
CATEGORIES:Petition Signing Event
END:VEVENT
BEGIN:VEVENT
DTSTART;TZID=UTC:20240513T150000
DTEND;TZID=UTC:20240513T170000
DTSTAMP:20260419T145630
CREATED:20240305T162118Z
LAST-MODIFIED:20240305T162118Z
UID:1627-1715612400-1715619600@paidsickleavefornebraskans.org
SUMMARY:Bad Seed Coffee
DESCRIPTION:
URL:https://paidsickleavefornebraskans.org/events/bad-seed-coffee-18/
LOCATION:Bad Seed Coffee\, 2452 Harney St.\, Omaha\, NE\, 68102\, United States
CATEGORIES:Petition Signing Event
END:VEVENT
BEGIN:VEVENT
DTSTART;TZID=UTC:20240513T143000
DTEND;TZID=UTC:20240513T163000
DTSTAMP:20260419T145630
CREATED:20240502T141431Z
LAST-MODIFIED:20240502T141431Z
UID:1992-1715610600-1715617800@paidsickleavefornebraskans.org
SUMMARY:Bad Seed Coffee
DESCRIPTION:
URL:https://paidsickleavefornebraskans.org/events/bad-seed-coffee-26/
LOCATION:Bad Seed Coffee\, 2452 Harney St.\, Omaha\, NE\, 68102\, United States
CATEGORIES:Petition Signing Event
END:VEVENT
BEGIN:VEVENT
DTSTART;TZID=UTC:20240512T130000
DTEND;TZID=UTC:20240512T160000
DTSTAMP:20260419T145630
CREATED:20240502T141400Z
LAST-MODIFIED:20240502T141400Z
UID:1988-1715518800-1715529600@paidsickleavefornebraskans.org
SUMMARY:Blue Line Coffee
DESCRIPTION:
URL:https://paidsickleavefornebraskans.org/events/blue-line-coffee-27/
LOCATION:Blue Line Coffee\, 4924 Underwood Ave\, Omaha\, NE\, 68132\, United States
CATEGORIES:Petition Signing Event
END:VEVENT
BEGIN:VEVENT
DTSTART;TZID=UTC:20240512T100000
DTEND;TZID=UTC:20240512T140000
DTSTAMP:20260419T145630
CREATED:20240502T142815Z
LAST-MODIFIED:20240502T142815Z
UID:2032-1715508000-1715522400@paidsickleavefornebraskans.org
SUMMARY:College View Farmer's Market
DESCRIPTION:
URL:https://paidsickleavefornebraskans.org/events/college-view-farmers-market-3/
LOCATION:College View Church\, 4801 Prescott Ave\, Lincoln\, NE\, 68506\, United States
CATEGORIES:Petition Signing Event
END:VEVENT
BEGIN:VEVENT
DTSTART;TZID=UTC:20240512T090000
DTEND;TZID=UTC:20240512T130000
DTSTAMP:20260419T145630
CREATED:20240502T142322Z
LAST-MODIFIED:20240502T142322Z
UID:2012-1715504400-1715518800@paidsickleavefornebraskans.org
SUMMARY:Aksarben Farmer's Market
DESCRIPTION:
URL:https://paidsickleavefornebraskans.org/events/aksarben-farmers-market-2/
LOCATION:Aksarben Village\, 2121 S 67th Street\, Omaha\, NE\, 68106\, United States
CATEGORIES:Petition Signing Event
END:VEVENT
BEGIN:VEVENT
DTSTART;TZID=UTC:20240511T100000
DTEND;TZID=UTC:20240511T120000
DTSTAMP:20260419T145630
CREATED:20240502T142953Z
LAST-MODIFIED:20240502T142953Z
UID:2042-1715421600-1715428800@paidsickleavefornebraskans.org
SUMMARY:Haymarket Farmer's Market
DESCRIPTION:
URL:https://paidsickleavefornebraskans.org/events/haymarket-farmers-market-2/
LOCATION:Haymarket\, North 8th Street and P Street\, Lincoln\, NE\, 68508\, United States
CATEGORIES:Petition Signing Event
END:VEVENT
BEGIN:VEVENT
DTSTART;TZID=UTC:20240511T080000
DTEND;TZID=UTC:20240511T123000
DTSTAMP:20260419T145630
CREATED:20240502T142506Z
LAST-MODIFIED:20240502T142506Z
UID:2020-1715414400-1715430600@paidsickleavefornebraskans.org
SUMMARY:Omaha Farmer's Market
DESCRIPTION:
URL:https://paidsickleavefornebraskans.org/events/omaha-farmers-market-4/
LOCATION:Old Market\, South 11th Street & Jackson Street\, Omaha\, NE\, United States
CATEGORIES:Petition Signing Event
END:VEVENT
BEGIN:VEVENT
DTSTART;TZID=UTC:20240510T150000
DTEND;TZID=UTC:20240510T180000
DTSTAMP:20260419T145630
CREATED:20240426T184926Z
LAST-MODIFIED:20240426T184926Z
UID:1966-1715353200-1715364000@paidsickleavefornebraskans.org
SUMMARY:Paid Sick Leave Drive-thru
DESCRIPTION:
URL:https://paidsickleavefornebraskans.org/events/paid-sick-leave-drive-thru/
LOCATION:YWCA Grand Island\, 211 E Fonner Park Road\, Grand Island\, NE\, 68801\, United States
CATEGORIES:Petition Signing Event
END:VEVENT
BEGIN:VEVENT
DTSTART;TZID=UTC:20240510T070000
DTEND;TZID=UTC:20240510T090000
DTSTAMP:20260419T145630
CREATED:20240305T162826Z
LAST-MODIFIED:20240305T162826Z
UID:1660-1715324400-1715331600@paidsickleavefornebraskans.org
SUMMARY:Blue Line Coffee
DESCRIPTION:
URL:https://paidsickleavefornebraskans.org/events/blue-line-coffee-18/
LOCATION:Blue Line Coffee\, 4924 Underwood Ave\, Omaha\, NE\, 68132\, United States
CATEGORIES:Petition Signing Event
END:VEVENT
BEGIN:VEVENT
DTSTART;TZID=UTC:20240509T160000
DTEND;TZID=UTC:20240509T180000
DTSTAMP:20260419T145630
CREATED:20240502T141716Z
LAST-MODIFIED:20240503T181840Z
UID:2004-1715270400-1715277600@paidsickleavefornebraskans.org
SUMMARY:The Mill in Lincoln
DESCRIPTION:
URL:https://paidsickleavefornebraskans.org/events/the-mill-in-lincoln-28/
LOCATION:Crescent Moon Coffee\, 140 N 8th St\, Lincoln\, United States
CATEGORIES:Petition Signing Event
END:VEVENT
BEGIN:VEVENT
DTSTART;TZID=UTC:20240509T150000
DTEND;TZID=UTC:20240509T180000
DTSTAMP:20260419T145630
CREATED:20240305T161231Z
LAST-MODIFIED:20240305T161231Z
UID:1575-1715266800-1715277600@paidsickleavefornebraskans.org
SUMMARY:The Mill in Lincoln
DESCRIPTION:
URL:https://paidsickleavefornebraskans.org/events/the-mill-in-lincoln-11/
LOCATION:The Mill Coffee and Tea\, 800 P St\, Lincoln\, NE\, 68508\, United States
CATEGORIES:Petition Signing Event
END:VEVENT
BEGIN:VEVENT
DTSTART;TZID=UTC:20240508T153000
DTEND;TZID=UTC:20240508T173000
DTSTAMP:20260419T145630
CREATED:20240502T141648Z
LAST-MODIFIED:20240503T181755Z
UID:2000-1715182200-1715189400@paidsickleavefornebraskans.org
SUMMARY:The Mill in Lincoln
DESCRIPTION:
URL:https://paidsickleavefornebraskans.org/events/the-mill-in-lincoln-27/
LOCATION:Crescent Moon Coffee\, 140 N 8th St\, Lincoln\, United States
CATEGORIES:Petition Signing Event
END:VEVENT
BEGIN:VEVENT
DTSTART;TZID=UTC:20240507T083000
DTEND;TZID=UTC:20240507T223000
DTSTAMP:20260419T145630
CREATED:20240502T141614Z
LAST-MODIFIED:20240503T181833Z
UID:1996-1715070600-1715121000@paidsickleavefornebraskans.org
SUMMARY:The Mill in Lincoln
DESCRIPTION:
URL:https://paidsickleavefornebraskans.org/events/the-mill-in-lincoln-26/
LOCATION:Crescent Moon Coffee\, 140 N 8th St\, Lincoln\, United States
CATEGORIES:Petition Signing Event
END:VEVENT
BEGIN:VEVENT
DTSTART;TZID=UTC:20240506T150000
DTEND;TZID=UTC:20240506T180000
DTSTAMP:20260419T145630
CREATED:20240305T161201Z
LAST-MODIFIED:20240305T161201Z
UID:1571-1715007600-1715018400@paidsickleavefornebraskans.org
SUMMARY:The Mill in Lincoln
DESCRIPTION:
URL:https://paidsickleavefornebraskans.org/events/the-mill-in-lincoln-10/
LOCATION:The Mill Coffee and Tea\, 800 P St\, Lincoln\, NE\, 68508\, United States
CATEGORIES:Petition Signing Event
END:VEVENT
BEGIN:VEVENT
DTSTART;TZID=UTC:20240506T150000
DTEND;TZID=UTC:20240506T170000
DTSTAMP:20260419T145630
CREATED:20240305T161822Z
LAST-MODIFIED:20240305T162051Z
UID:1611-1715007600-1715014800@paidsickleavefornebraskans.org
SUMMARY:Bad Seed Coffee
DESCRIPTION:
URL:https://paidsickleavefornebraskans.org/events/bad-seed-coffee-14/
LOCATION:Bad Seed Coffee\, 2452 Harney St.\, Omaha\, NE\, 68102\, United States
CATEGORIES:Petition Signing Event
END:VEVENT
BEGIN:VEVENT
DTSTART;TZID=UTC:20240506T143000
DTEND;TZID=UTC:20240506T193000
DTSTAMP:20260419T145630
CREATED:20240502T141255Z
LAST-MODIFIED:20240502T141255Z
UID:1980-1715005800-1715023800@paidsickleavefornebraskans.org
SUMMARY:Bad Seed Coffee
DESCRIPTION:
URL:https://paidsickleavefornebraskans.org/events/bad-seed-coffee-25/
LOCATION:Bad Seed Coffee\, 2452 Harney St.\, Omaha\, NE\, 68102\, United States
CATEGORIES:Petition Signing Event
END:VEVENT
BEGIN:VEVENT
DTSTART;TZID=UTC:20240505T100000
DTEND;TZID=UTC:20240505T140000
DTSTAMP:20260419T145630
CREATED:20240502T142740Z
LAST-MODIFIED:20240502T142835Z
UID:2028-1714903200-1714917600@paidsickleavefornebraskans.org
SUMMARY:College View Farmer's Market
DESCRIPTION:
URL:https://paidsickleavefornebraskans.org/events/college-view-farmers-market-2/
LOCATION:College View Church\, 4801 Prescott Ave\, Lincoln\, NE\, 68506\, United States
CATEGORIES:Petition Signing Event
END:VEVENT
BEGIN:VEVENT
DTSTART;TZID=UTC:20240505T090000
DTEND;TZID=UTC:20240505T130000
DTSTAMP:20260419T145630
CREATED:20240502T142213Z
LAST-MODIFIED:20240502T142224Z
UID:2008-1714899600-1714914000@paidsickleavefornebraskans.org
SUMMARY:Aksarben Farmer's Market
DESCRIPTION:
URL:https://paidsickleavefornebraskans.org/events/aksarben-farmers-market/
LOCATION:Aksarben Village\, 2121 S 67th Street\, Omaha\, NE\, 68106\, United States
CATEGORIES:Petition Signing Event
END:VEVENT
BEGIN:VEVENT
DTSTART;TZID=UTC:20240504T180000
DTEND;TZID=UTC:20240504T193000
DTSTAMP:20260419T145630
CREATED:20240502T142631Z
LAST-MODIFIED:20240502T142631Z
UID:2024-1714845600-1714851000@paidsickleavefornebraskans.org
SUMMARY:Wage War
DESCRIPTION:
URL:https://paidsickleavefornebraskans.org/events/wage-war/
LOCATION:The Astro\, 8302 City Centre Dr.\, La Vista\, 68128\, United States
CATEGORIES:Petition Signing Event
END:VEVENT
BEGIN:VEVENT
DTSTART;TZID=UTC:20240504T110000
DTEND;TZID=UTC:20240504T150000
DTSTAMP:20260419T145630
CREATED:20240426T185011Z
LAST-MODIFIED:20240426T185011Z
UID:1971-1714820400-1714834800@paidsickleavefornebraskans.org
SUMMARY:Paid Sick Leave Drive-thru
DESCRIPTION:
URL:https://paidsickleavefornebraskans.org/events/paid-sick-leave-drive-thru-2/
LOCATION:YWCA Grand Island\, 211 E Fonner Park Road\, Grand Island\, NE\, 68801\, United States
CATEGORIES:Petition Signing Event
END:VEVENT
BEGIN:VEVENT
DTSTART;TZID=UTC:20240504T080000
DTEND;TZID=UTC:20240504T123000
DTSTAMP:20260419T145630
CREATED:20240502T142441Z
LAST-MODIFIED:20240502T142441Z
UID:2016-1714809600-1714825800@paidsickleavefornebraskans.org
SUMMARY:Omaha Farmer's Market
DESCRIPTION:
URL:https://paidsickleavefornebraskans.org/events/omaha-farmers-market-3/
LOCATION:Old Market\, South 11th Street & Jackson Street\, Omaha\, NE\, United States
CATEGORIES:Petition Signing Event
END:VEVENT
BEGIN:VEVENT
DTSTART;TZID=UTC:20240504T080000
DTEND;TZID=UTC:20240504T120000
DTSTAMP:20260419T145630
CREATED:20240502T142926Z
LAST-MODIFIED:20240502T142926Z
UID:2038-1714809600-1714824000@paidsickleavefornebraskans.org
SUMMARY:Haymarket Farmer's Market
DESCRIPTION:
URL:https://paidsickleavefornebraskans.org/events/haymarket-farmers-market/
LOCATION:Haymarket\, North 8th Street and P Street\, Lincoln\, NE\, 68508\, United States
CATEGORIES:Petition Signing Event
END:VEVENT
BEGIN:VEVENT
DTSTART;TZID=UTC:20240503T070000
DTEND;TZID=UTC:20240503T090000
DTSTAMP:20260419T145630
CREATED:20240305T162801Z
LAST-MODIFIED:20240305T162801Z
UID:1656-1714719600-1714726800@paidsickleavefornebraskans.org
SUMMARY:Blue Line Coffee
DESCRIPTION:
URL:https://paidsickleavefornebraskans.org/events/blue-line-coffee-17/
LOCATION:Blue Line Coffee\, 4924 Underwood Ave\, Omaha\, NE\, 68132\, United States
CATEGORIES:Petition Signing Event
END:VEVENT
BEGIN:VEVENT
DTSTART;TZID=UTC:20240502T150000
DTEND;TZID=UTC:20240502T180000
DTSTAMP:20260419T145630
CREATED:20240305T161134Z
LAST-MODIFIED:20240305T161134Z
UID:1567-1714662000-1714672800@paidsickleavefornebraskans.org
SUMMARY:The Mill in Lincoln
DESCRIPTION:
URL:https://paidsickleavefornebraskans.org/events/the-mill-in-lincoln-9/
LOCATION:The Mill Coffee and Tea\, 800 P St\, Lincoln\, NE\, 68508\, United States
CATEGORIES:Petition Signing Event
END:VEVENT
BEGIN:VEVENT
DTSTART;TZID=UTC:20240502T070000
DTEND;TZID=UTC:20240502T090000
DTSTAMP:20260419T145630
CREATED:20240502T141327Z
LAST-MODIFIED:20240502T141906Z
UID:1984-1714633200-1714640400@paidsickleavefornebraskans.org
SUMMARY:Blue Line Coffee
DESCRIPTION:
URL:https://paidsickleavefornebraskans.org/events/blue-line-coffee-26/
LOCATION:Blue Line Coffee\, 4924 Underwood Ave\, Omaha\, NE\, 68132\, United States
CATEGORIES:Petition Signing Event
END:VEVENT
BEGIN:VEVENT
DTSTART;TZID=UTC:20240429T150000
DTEND;TZID=UTC:20240429T180000
DTSTAMP:20260419T145630
CREATED:20240305T161046Z
LAST-MODIFIED:20240305T161046Z
UID:1563-1714402800-1714413600@paidsickleavefornebraskans.org
SUMMARY:The Mill in Lincoln
DESCRIPTION:
URL:https://paidsickleavefornebraskans.org/events/the-mill-in-lincoln-8/
LOCATION:The Mill Coffee and Tea\, 800 P St\, Lincoln\, NE\, 68508\, United States
CATEGORIES:Petition Signing Event
END:VEVENT
BEGIN:VEVENT
DTSTART;TZID=UTC:20240429T150000
DTEND;TZID=UTC:20240429T170000
DTSTAMP:20260419T145630
CREATED:20240305T161945Z
LAST-MODIFIED:20240305T161945Z
UID:1623-1714402800-1714410000@paidsickleavefornebraskans.org
SUMMARY:Bad Seed Coffee
DESCRIPTION:
URL:https://paidsickleavefornebraskans.org/events/bad-seed-coffee-17/
LOCATION:Bad Seed Coffee\, 2452 Harney St.\, Omaha\, NE\, 68102\, United States
CATEGORIES:Petition Signing Event
END:VEVENT
BEGIN:VEVENT
DTSTART;TZID=UTC:20240428T123000
DTEND;TZID=UTC:20240428T153000
DTSTAMP:20260419T145630
CREATED:20240415T140308Z
LAST-MODIFIED:20240415T140308Z
UID:1951-1714307400-1714318200@paidsickleavefornebraskans.org
SUMMARY:Lincoln Arbor Day
DESCRIPTION:Antelope Park is located 23rd and “N” Streets to 33rd & Sheridan Boulevard in Lincoln\, Nebraska.
URL:https://paidsickleavefornebraskans.org/events/lincoln-arbor-day/
LOCATION:Antelope Park\, 23rd and N Streets\, Lincoln\, NE\, 68502\, United States
CATEGORIES:Petition Signing Event
END:VEVENT
END:VCALENDAR